BEGIN:VCALENDAR
VERSION:2.0
PRODID:-//Släktforskning - ECPv6.1.2.2//NONSGML v1.0//EN
CALSCALE:GREGORIAN
METHOD:PUBLISH
X-WR-CALNAME:Släktforskning
X-ORIGINAL-URL:https://dis-filbyter.se
X-WR-CALDESC:Händelser för Släktforskning
REFRESH-INTERVAL;VALUE=DURATION:PT1H
X-Robots-Tag:noindex
X-PUBLISHED-TTL:PT1H
BEGIN:VTIMEZONE
TZID:Europe/Stockholm
BEGIN:DAYLIGHT
TZOFFSETFROM:+0100
TZOFFSETTO:+0200
TZNAME:CEST
DTSTART:20240331T010000
END:DAYLIGHT
BEGIN:STANDARD
TZOFFSETFROM:+0200
TZOFFSETTO:+0100
TZNAME:CET
DTSTART:20241027T010000
END:STANDARD
END:VTIMEZONE
BEGIN:VEVENT
DTSTART;VALUE=DATE:20240927
DTEND;VALUE=DATE:20241105
DTSTAMP:20260425T001014
CREATED:20240919T185215Z
LAST-MODIFIED:20240919T185215Z
UID:13861-1727395200-1730764799@dis-filbyter.se
SUMMARY:"Jenny och Ada” på Kisa bibliotek! 27 sept.- 4 nov. 2024
DESCRIPTION:"Jenny och Ada” med Dis-Filbyter på Kisa bibliotek!\nhttps://curmanska.dis.se/Digital_index.html \nPassa på att lära känna dessa engagerade damer och\nläs om spännande öden våra förfäder upplevt i\nutställningen Släktforskning - Inte bara namn och årtal.” \nVälkomna till Biblioteket i Kisa 27 sept.- 4 nov. 2024\nUtställningen är gratis!
URL:https://dis-filbyter.se/event/jenny-och-ada-pa-kisa-bibliotek-27-sept-4-nov-2024/
LOCATION:Kisa bibliotek\, Torggatan 2\, Kisa\, 59037
ORGANIZER;CN="Lisbeth%20Engdahl":MAILTO:lisbeth.lkp@gmail.com
END:VEVENT
BEGIN:VEVENT
DTSTART;TZID=Europe/Stockholm:20241013T140000
DTEND;TZID=Europe/Stockholm:20241013T160000
DTSTAMP:20260425T001014
CREATED:20240531T081224Z
LAST-MODIFIED:20240531T081224Z
UID:13408-1728828000-1728835200@dis-filbyter.se
SUMMARY:Linköping 13/10 Workshop med Disbyt
DESCRIPTION:13/10 Workshop med Disbyt\, DisbytMatch. Antal deltagare är begränsat. Anmälan till\nHelén Lindqvist\, e-post: lindqvist660@gmail.com\nLokal: Bergkvists rum
URL:https://dis-filbyter.se/event/linkoping-13-10-workshop-med-disbyt/
LOCATION:Fontänen Bergqvist\, Västra Vägen 32
ORGANIZER;CN="Helen%20Lindqvist":MAILTO:lindqvist660@gmail.com
END:VEVENT
END:VCALENDAR