BEGIN:VCALENDAR
VERSION:2.0
PRODID:-//Släktforskning - ECPv6.1.2.2//NONSGML v1.0//EN
CALSCALE:GREGORIAN
METHOD:PUBLISH
X-ORIGINAL-URL:https://dis-filbyter.se
X-WR-CALDESC:Händelser för Släktforskning
REFRESH-INTERVAL;VALUE=DURATION:PT1H
X-Robots-Tag:noindex
X-PUBLISHED-TTL:PT1H
BEGIN:VTIMEZONE
TZID:Europe/Stockholm
BEGIN:DAYLIGHT
TZOFFSETFROM:+0100
TZOFFSETTO:+0200
TZNAME:CEST
DTSTART:20240331T010000
END:DAYLIGHT
BEGIN:STANDARD
TZOFFSETFROM:+0200
TZOFFSETTO:+0100
TZNAME:CET
DTSTART:20241027T010000
END:STANDARD
END:VTIMEZONE
BEGIN:VEVENT
DTSTART;TZID=Europe/Stockholm:20241030T180000
DTEND;TZID=Europe/Stockholm:20241112T203000
DTSTAMP:20260424T223925
CREATED:20240618T134753Z
LAST-MODIFIED:20241109T102337Z
UID:13674-1730311200-1731443400@dis-filbyter.se
SUMMARY:Kurs: Disgen utskrifter Zoom. Start 30 oktober OBS NYTT DATUM
DESCRIPTION:Disgen utskrifter. Start 30 oktober\, 2 ggr. OBS NYTT DATUM
URL:https://dis-filbyter.se/event/zoom-disgen-utskrifter-start-16-oktober/
LOCATION:Zoom
ORGANIZER;CN="Bertil%20Lindqvist":MAILTO:bka.lindqvist@gmail.com
END:VEVENT
BEGIN:VEVENT
DTSTART;TZID=Europe/Stockholm:20241105T100000
DTEND;TZID=Europe/Stockholm:20241105T123000
DTSTAMP:20260424T223925
CREATED:20240618T144510Z
LAST-MODIFIED:20240618T144510Z
UID:13711-1730800800-1730809800@dis-filbyter.se
SUMMARY:Kurs: Tolka gamla texter - cirkel. Fortsättning. Start 5 november
DESCRIPTION:Tolka gamla texter - cirkel. Fortsättning. Start 5 november
URL:https://dis-filbyter.se/event/kurs-tolka-gamla-texter-cirkel-fortsattning-start-5-november/
LOCATION:Fontänen Hellströms\, Västra vägen 32\, Linköping
ORGANIZER;CN="Helen%20Lindqvist":MAILTO:lindqvist660@gmail.com
END:VEVENT
BEGIN:VEVENT
DTSTART;TZID=Europe/Stockholm:20241105T180000
DTEND;TZID=Europe/Stockholm:20241105T190000
DTSTAMP:20260424T223925
CREATED:20241010T190014Z
LAST-MODIFIED:20241010T190014Z
UID:13928-1730829600-1730833200@dis-filbyter.se
SUMMARY:Biblioteket i Horn och Dis-Filbyter bjuder in till föreläsning 5/11
DESCRIPTION:Biblioteket i Horn och Dis-Filbyter bjuder in till föreläsning \n5/11 18.00-19.00 Hur man börjar släktforska.\nMed Lisbeth Engdahl och Berit Peukert\nInformation hur man kommer igång\, hur man dokumenterar sin\nforskning och tar vara på de\n”levande arkiven” samt vad som finns i våra kyrkoarkiv. \nReservation för ändringar\, kolla gärna någon dag innan!\nDis-Filbyters hemsida dis-filbyter.se
URL:https://dis-filbyter.se/event/biblioteket-i-horn-och-dis-filbyter-bjuder-in-till-forelasning-5-11/
LOCATION:Biblioteket Horn\, Stångågatan 2\, Horn\, 590 42
ORGANIZER;CN="Berit%20Peukert":MAILTO:berpeu207@gmail.com
END:VEVENT
END:VCALENDAR