BEGIN:VCALENDAR
VERSION:2.0
PRODID:-//Släktforskning - ECPv6.1.2.2//NONSGML v1.0//EN
CALSCALE:GREGORIAN
METHOD:PUBLISH
X-ORIGINAL-URL:https://dis-filbyter.se
X-WR-CALDESC:Händelser för Släktforskning
REFRESH-INTERVAL;VALUE=DURATION:PT1H
X-Robots-Tag:noindex
X-PUBLISHED-TTL:PT1H
BEGIN:VTIMEZONE
TZID:Europe/Stockholm
BEGIN:DAYLIGHT
TZOFFSETFROM:+0100
TZOFFSETTO:+0200
TZNAME:CEST
DTSTART:20240331T010000
END:DAYLIGHT
BEGIN:STANDARD
TZOFFSETFROM:+0200
TZOFFSETTO:+0100
TZNAME:CET
DTSTART:20241027T010000
END:STANDARD
END:VTIMEZONE
BEGIN:VEVENT
DTSTART;TZID=Europe/Stockholm:20241030T180000
DTEND;TZID=Europe/Stockholm:20241112T203000
DTSTAMP:20260424T223915
CREATED:20240618T134753Z
LAST-MODIFIED:20241109T102337Z
UID:13674-1730311200-1731443400@dis-filbyter.se
SUMMARY:Kurs: Disgen utskrifter Zoom. Start 30 oktober OBS NYTT DATUM
DESCRIPTION:Disgen utskrifter. Start 30 oktober\, 2 ggr. OBS NYTT DATUM
URL:https://dis-filbyter.se/event/zoom-disgen-utskrifter-start-16-oktober/
LOCATION:Zoom
ORGANIZER;CN="Bertil%20Lindqvist":MAILTO:bka.lindqvist@gmail.com
END:VEVENT
BEGIN:VEVENT
DTSTART;TZID=Europe/Stockholm:20241106T080000
DTEND;TZID=Europe/Stockholm:20241106T170000
DTSTAMP:20260424T223915
CREATED:20240618T135647Z
LAST-MODIFIED:20240618T140756Z
UID:13678-1730880000-1730912400@dis-filbyter.se
SUMMARY:Kurs: Domboksforskning\, grund Zoom. Start 6 november
DESCRIPTION:Domboksforskning\, grund. Start 6 november\, 4 ggr.
URL:https://dis-filbyter.se/event/domboksforskning-grund-start-6-november/
END:VEVENT
END:VCALENDAR