BEGIN:VCALENDAR
VERSION:2.0
PRODID:-//Släktforskning - ECPv6.1.2.2//NONSGML v1.0//EN
CALSCALE:GREGORIAN
METHOD:PUBLISH
X-ORIGINAL-URL:https://dis-filbyter.se
X-WR-CALDESC:Händelser för Släktforskning
REFRESH-INTERVAL;VALUE=DURATION:PT1H
X-Robots-Tag:noindex
X-PUBLISHED-TTL:PT1H
BEGIN:VTIMEZONE
TZID:Europe/Stockholm
BEGIN:DAYLIGHT
TZOFFSETFROM:+0100
TZOFFSETTO:+0200
TZNAME:CEST
DTSTART:20240331T010000
END:DAYLIGHT
BEGIN:STANDARD
TZOFFSETFROM:+0200
TZOFFSETTO:+0100
TZNAME:CET
DTSTART:20241027T010000
END:STANDARD
END:VTIMEZONE
BEGIN:VEVENT
DTSTART;TZID=Europe/Stockholm:20241126T190000
DTEND;TZID=Europe/Stockholm:20241126T200000
DTSTAMP:20260424T224033
CREATED:20240531T083807Z
LAST-MODIFIED:20241008T123856Z
UID:13420-1732647600-1732651200@dis-filbyter.se
SUMMARY:Zoom Disgen. 26/11
DESCRIPTION:26/11\, tisdag. Disgen. Eventuella nyheter. Allmän frågestund.\nDELTA Zoom möte\nNy länk kommer.
URL:https://dis-filbyter.se/event/zoom-disgen/
LOCATION:Zoom
ORGANIZER;CN="Bertil%20Lindqvist":MAILTO:bka.lindqvist@gmail.com
END:VEVENT
END:VCALENDAR