BEGIN:VCALENDAR
VERSION:2.0
PRODID:-//Släktforskning - ECPv6.1.2.2//NONSGML v1.0//EN
CALSCALE:GREGORIAN
METHOD:PUBLISH
X-ORIGINAL-URL:https://dis-filbyter.se
X-WR-CALDESC:Händelser för Släktforskning
REFRESH-INTERVAL;VALUE=DURATION:PT1H
X-Robots-Tag:noindex
X-PUBLISHED-TTL:PT1H
BEGIN:VTIMEZONE
TZID:Europe/Stockholm
BEGIN:DAYLIGHT
TZOFFSETFROM:+0100
TZOFFSETTO:+0200
TZNAME:CEST
DTSTART:20250330T010000
END:DAYLIGHT
BEGIN:STANDARD
TZOFFSETFROM:+0200
TZOFFSETTO:+0100
TZNAME:CET
DTSTART:20251026T010000
END:STANDARD
END:VTIMEZONE
BEGIN:VEVENT
DTSTART;TZID=Europe/Stockholm:20250122T133000
DTEND;TZID=Europe/Stockholm:20250219T160000
DTSTAMP:20260425T014026
CREATED:20241119T213335Z
LAST-MODIFIED:20241119T213426Z
UID:14101-1737552600-1739980800@dis-filbyter.se
SUMMARY:Zoom Hus- och fastighetsforskning 3 ggr
DESCRIPTION:Att kunna hitta äldre information om en fastighet kan ge helt nya perspektiv i sin släktforskning. I denna kurs får du kunskap om hur Du kan ta reda på information om din fastighet från nutid till forntid. Du får kunskap om fastighetsbildning från Gustav Wasas tid fram till nu. Vi ger tips och handledning i hur man söker bakåt i fastighetens ägarlängder\, och hur man söker i äldre kartmaterial mm.
URL:https://dis-filbyter.se/event/zoom-hus-och-fastighetsforskning-3-ggr/
ORGANIZER;CN="S%C3%B6ren%20Linde":MAILTO:soren.lindhe@lindcom.se
END:VEVENT
END:VCALENDAR