BEGIN:VCALENDAR
VERSION:2.0
PRODID:-//Släktforskning - ECPv6.1.2.2//NONSGML v1.0//EN
CALSCALE:GREGORIAN
METHOD:PUBLISH
X-WR-CALNAME:Släktforskning
X-ORIGINAL-URL:https://dis-filbyter.se
X-WR-CALDESC:Händelser för Släktforskning
REFRESH-INTERVAL;VALUE=DURATION:PT1H
X-Robots-Tag:noindex
X-PUBLISHED-TTL:PT1H
BEGIN:VTIMEZONE
TZID:Europe/Stockholm
BEGIN:DAYLIGHT
TZOFFSETFROM:+0100
TZOFFSETTO:+0200
TZNAME:CEST
DTSTART:20250330T010000
END:DAYLIGHT
BEGIN:STANDARD
TZOFFSETFROM:+0200
TZOFFSETTO:+0100
TZNAME:CET
DTSTART:20251026T010000
END:STANDARD
END:VTIMEZONE
BEGIN:VEVENT
DTSTART;TZID=Europe/Stockholm:20250331T190000
DTEND;TZID=Europe/Stockholm:20250331T200000
DTSTAMP:20260423T101045
CREATED:20250103T102147Z
LAST-MODIFIED:20250322T085437Z
UID:14352-1743447600-1743451200@dis-filbyter.se
SUMMARY:Digitala möten på Zoom Polisunderrättelser
DESCRIPTION:31/3  Polisunderrättelser.\nChris Bingefors\, v ordförande i Sveriges släktforskarförbund föreläser. \nJoin Zoom Meeting\nhttps://us02web.zoom.us/j/85804071360?pwd=hVJAaICERwoPNcJvUrzY69JbgoQD38.1\nMötes-ID: 858 0407 1360\nLösenkod: 402523
URL:https://dis-filbyter.se/event/digitala-moten-pa-zoom/
LOCATION:Zoom
ORGANIZER;CN="Helen%20Lindqvist":MAILTO:lindqvist660@gmail.com
END:VEVENT
END:VCALENDAR