BEGIN:VCALENDAR
VERSION:2.0
PRODID:-//Släktforskning - ECPv6.1.2.2//NONSGML v1.0//EN
CALSCALE:GREGORIAN
METHOD:PUBLISH
X-ORIGINAL-URL:https://dis-filbyter.se
X-WR-CALDESC:Händelser för Släktforskning
REFRESH-INTERVAL;VALUE=DURATION:PT1H
X-Robots-Tag:noindex
X-PUBLISHED-TTL:PT1H
BEGIN:VTIMEZONE
TZID:Europe/Stockholm
BEGIN:DAYLIGHT
TZOFFSETFROM:+0100
TZOFFSETTO:+0200
TZNAME:CEST
DTSTART:20250330T010000
END:DAYLIGHT
BEGIN:STANDARD
TZOFFSETFROM:+0200
TZOFFSETTO:+0100
TZNAME:CET
DTSTART:20251026T010000
END:STANDARD
END:VTIMEZONE
BEGIN:VEVENT
DTSTART;TZID=Europe/Stockholm:20250402T080000
DTEND;TZID=Europe/Stockholm:20250402T170000
DTSTAMP:20260423T101112
CREATED:20241119T215223Z
LAST-MODIFIED:20250409T120132Z
UID:14107-1743580800-1743613200@dis-filbyter.se
SUMMARY:Släktforskning\, grundkurs för Reumatikerförbundet 6 ggr
DESCRIPTION:Du får lära dig grunderna i släktforskning\, hur man kommer igång\, hur man dokumenterar sin forskning och tar vara på de ”levande arkiven” samt vad som finns i våra kyrkoarkiv mm. Du kommer att få lära dig att använda verktygen Arkiv Digital (AD) och Riksarkivet (RA) på de övningar som ingår i kursen. Vi använder datorerna i datasalen....
URL:https://dis-filbyter.se/event/slaktforskning-grundkurs-for-reumatikerforbundet-6-ggr/
LOCATION:Fontänen datasalen\, Västra Vägen 32\, Linköping\, Sverige
ORGANIZER;CN="Berit%20Peukert":MAILTO:berpeu207@gmail.com
END:VEVENT
END:VCALENDAR