BEGIN:VCALENDAR
VERSION:2.0
PRODID:-//Släktforskning - ECPv6.1.2.2//NONSGML v1.0//EN
CALSCALE:GREGORIAN
METHOD:PUBLISH
X-WR-CALNAME:Släktforskning
X-ORIGINAL-URL:https://dis-filbyter.se
X-WR-CALDESC:Händelser för Släktforskning
REFRESH-INTERVAL;VALUE=DURATION:PT1H
X-Robots-Tag:noindex
X-PUBLISHED-TTL:PT1H
BEGIN:VTIMEZONE
TZID:Europe/Stockholm
BEGIN:DAYLIGHT
TZOFFSETFROM:+0100
TZOFFSETTO:+0200
TZNAME:CEST
DTSTART:20250330T010000
END:DAYLIGHT
BEGIN:STANDARD
TZOFFSETFROM:+0200
TZOFFSETTO:+0100
TZNAME:CET
DTSTART:20251026T010000
END:STANDARD
END:VTIMEZONE
BEGIN:VEVENT
DTSTART;TZID=Europe/Stockholm:20250422T190000
DTEND;TZID=Europe/Stockholm:20250422T200000
DTSTAMP:20260423T100942
CREATED:20250115T152414Z
LAST-MODIFIED:20250115T152414Z
UID:14391-1745348400-1745352000@dis-filbyter.se
SUMMARY:Zoom: Inrikes pass.
DESCRIPTION:22/4 Inrikes pass. Hans Hanner\, GF föreläser på Zoom.\nFörr fick man inte resa hur man ville i landet utan var tvungen att få ett pass utfärdat för den resa man skulle företa sig. När man ansökte om ett resepass räckte det inte att tala om var man bodde och vart man skulle. Myndigheterna beslutade även vilken resväg man skulle ta och hur länge passet skulle vara giltigt\, och dessa uppgifter fanns angivna i passen. \nGå med i möte på Zoom\nhttps://us02web.zoom.us/j/81722379438?pwd=GM9HmT3ExGBQF4YmUN7bnkLga4VQH3.1 \nMötes-ID: 817 2237 9438\nLösenkod: 499004
URL:https://dis-filbyter.se/event/zoom-inrikes-pass/
LOCATION:Zoom
ORGANIZER;CN="Helen%20Lindqvist":MAILTO:lindqvist660@gmail.com
END:VEVENT
END:VCALENDAR