BEGIN:VCALENDAR
VERSION:2.0
PRODID:-//Släktforskning - ECPv6.1.2.2//NONSGML v1.0//EN
CALSCALE:GREGORIAN
METHOD:PUBLISH
X-ORIGINAL-URL:https://dis-filbyter.se
X-WR-CALDESC:Händelser för Släktforskning
REFRESH-INTERVAL;VALUE=DURATION:PT1H
X-Robots-Tag:noindex
X-PUBLISHED-TTL:PT1H
BEGIN:VTIMEZONE
TZID:Europe/Stockholm
BEGIN:DAYLIGHT
TZOFFSETFROM:+0100
TZOFFSETTO:+0200
TZNAME:CEST
DTSTART:20250330T010000
END:DAYLIGHT
BEGIN:STANDARD
TZOFFSETFROM:+0200
TZOFFSETTO:+0100
TZNAME:CET
DTSTART:20251026T010000
END:STANDARD
END:VTIMEZONE
BEGIN:VEVENT
DTSTART;TZID=Europe/Stockholm:20250529T080000
DTEND;TZID=Europe/Stockholm:20250529T170000
DTSTAMP:20260423T070653
CREATED:20250529T141401Z
LAST-MODIFIED:20250529T141401Z
UID:14925-1748505600-1748538000@dis-filbyter.se
SUMMARY:Kurs Kartor 1\, 3ggr
DESCRIPTION:Kursen fokuserar på användning av Disgens grundkarta för placering och beskrivning av egna orter\, visning av den egna släkten\, hantering av för Disgen anpassade underlagskartor\, utskrifter samt visning av släkten på Google Earth Pro
URL:https://dis-filbyter.se/event/kurs-kartor-1-3ggr/
LOCATION:Fontänen Bergqvist\, Västra Vägen 32
END:VEVENT
END:VCALENDAR