BEGIN:VCALENDAR
VERSION:2.0
PRODID:-//Släktforskning - ECPv6.1.2.2//NONSGML v1.0//EN
CALSCALE:GREGORIAN
METHOD:PUBLISH
X-ORIGINAL-URL:https://dis-filbyter.se
X-WR-CALDESC:Händelser för Släktforskning
REFRESH-INTERVAL;VALUE=DURATION:PT1H
X-Robots-Tag:noindex
X-PUBLISHED-TTL:PT1H
BEGIN:VTIMEZONE
TZID:Europe/Stockholm
BEGIN:DAYLIGHT
TZOFFSETFROM:+0100
TZOFFSETTO:+0200
TZNAME:CEST
DTSTART:20250330T010000
END:DAYLIGHT
BEGIN:STANDARD
TZOFFSETFROM:+0200
TZOFFSETTO:+0100
TZNAME:CET
DTSTART:20251026T010000
END:STANDARD
END:VTIMEZONE
BEGIN:VEVENT
DTSTART;TZID=Europe/Stockholm:20250911T180000
DTEND;TZID=Europe/Stockholm:20250911T193000
DTSTAMP:20260423T021906
CREATED:20250713T155235Z
LAST-MODIFIED:20250713T155324Z
UID:15080-1757613600-1757619000@dis-filbyter.se
SUMMARY:Linköping\, Städer i och utanför Hansan
DESCRIPTION:Föreläsare: Sofia Gustafsson\nStäder i och utanför Hansan\nTorsdag 11 september 2025 18.00\nPlats: LIVE och Zoom i lokal Bergqvist Fontänen\nFöreläsningen är gratis \nDen hanseatiska världen och Skandinavien under medeltiden. De svenska städerna var inte en del av Hansan\, men de ingick i handelsnätverken och särskilt kuststädernas invånare hade nära relationer till borgare i städer på andra sidan Östersjön....
URL:https://dis-filbyter.se/event/linkoping-stader-i-och-utanfor-hansan/
LOCATION:Fontänen Bergqvist + Zoom\, Västra Vägen 32\, Linköping
END:VEVENT
END:VCALENDAR