BEGIN:VCALENDAR
VERSION:2.0
PRODID:-//Släktforskning - ECPv6.1.2.2//NONSGML v1.0//EN
CALSCALE:GREGORIAN
METHOD:PUBLISH
X-WR-CALNAME:Släktforskning
X-ORIGINAL-URL:https://dis-filbyter.se
X-WR-CALDESC:Händelser för Släktforskning
REFRESH-INTERVAL;VALUE=DURATION:PT1H
X-Robots-Tag:noindex
X-PUBLISHED-TTL:PT1H
BEGIN:VTIMEZONE
TZID:Europe/Stockholm
BEGIN:DAYLIGHT
TZOFFSETFROM:+0100
TZOFFSETTO:+0200
TZNAME:CEST
DTSTART:20250330T010000
END:DAYLIGHT
BEGIN:STANDARD
TZOFFSETFROM:+0200
TZOFFSETTO:+0100
TZNAME:CET
DTSTART:20251026T010000
END:STANDARD
END:VTIMEZONE
BEGIN:VEVENT
DTSTART;TZID=Europe/Stockholm:20251023T150000
DTEND;TZID=Europe/Stockholm:20251210T180000
DTSTAMP:20260422T224209
CREATED:20251023T092030Z
LAST-MODIFIED:20251028T180053Z
UID:15376-1761231600-1765389600@dis-filbyter.se
SUMMARY:Motala Släktforskningshjälp
DESCRIPTION:ABF har öppnat en släktforskarstuga i sina lokaler på Kyrkogatan 6  i Motala i\nsamarbete med Dis-Filbyter. Efter önskemål med gruppen ställer Dis-Filbyter då och då upp med släktforskarhjälp\, föreläsningar osv. \nDu får hjälp med de grundläggande upplysningarna om hur du släktforskar. Det är drop-in träffar på onsdagar och du behöver inte göra någon föranmälan. Du kan komma vilken tid som passar dig bäst mellan kl. 15.00 – 18.00.
URL:https://dis-filbyter.se/event/motala-slaktforskningshjalp-4/
LOCATION:ABF Motala\, Kyrkogatan 6\, Motala
END:VEVENT
BEGIN:VEVENT
DTSTART;TZID=Europe/Stockholm:20251119T150000
DTEND;TZID=Europe/Stockholm:20251119T180000
DTSTAMP:20260422T224209
CREATED:20251023T093351Z
LAST-MODIFIED:20251028T175628Z
UID:15381-1763564400-1763575200@dis-filbyter.se
SUMMARY:Motala Släktforskningshjälp
DESCRIPTION:OBS nytt datum 19 november för: Bertil och Helén Lindqvist kommer och besöker släktforskarstugan.\n- Information om vad du som släktforskare får genom att använda programmet Disgen.\n- Information om nyheterna i Disgen 2025 för dig som har en tidigare version.\n- Frågestund \nMedlemmar och övriga intresserade är varmt välkomna!. \nABF har öppnat en släktforskarstuga i sina lokaler på Kyrkogatan 6  i Motala i\nsamarbete med Dis-Filbyter. Efter önskemål med gruppen ställer Dis-Filbyter då och då upp med släktforskarhjälp\, föreläsningar osv. \nDu får hjälp med de grundläggande upplysningarna om hur du släktforskar. Det är drop-in träffar på onsdagar och du behöver inte göra någon föranmälan. Du kan komma vilken tid som passar dig bäst mellan kl. 15.00 – 18.00.
URL:https://dis-filbyter.se/event/motala-slaktforskningshjalp-6/
LOCATION:ABF Motala\, Kyrkogatan 6\, Motala
END:VEVENT
BEGIN:VEVENT
DTSTART;TZID=Europe/Stockholm:20251119T163000
DTEND;TZID=Europe/Stockholm:20251119T190000
DTSTAMP:20260422T224209
CREATED:20251023T085409Z
LAST-MODIFIED:20251023T085409Z
UID:15359-1763569800-1763578800@dis-filbyter.se
SUMMARY:Borensberg Släktforskningshjälp
DESCRIPTION:Öppen släktforskning på biblioteket i Borensberg 5/11\, 19/11\, och 3/12 kl. 16.30 - 19.00. Se även information under "Våra orter"/Borensberg
URL:https://dis-filbyter.se/event/borensberg-slaktforskningshjalp-2/
LOCATION:Biblioteket Borensberg\, Husbyvägen 13\, Borensberg
END:VEVENT
BEGIN:VEVENT
DTSTART;TZID=Europe/Stockholm:20251119T180000
DTEND;TZID=Europe/Stockholm:20251119T200000
DTSTAMP:20260422T224209
CREATED:20251022T114631Z
LAST-MODIFIED:20251022T115008Z
UID:15351-1763575200-1763582400@dis-filbyter.se
SUMMARY:Vadstena Släktforskningshjälp
DESCRIPTION:Släktforskning med handledning i ABFs lokal på Södra vägen startar nu hösten 2025. \n\nDen 19/11 deltar Anders Lindman Hjalmarsson från Linköping\n\nVarmt välkomna !\n\nNär: onsdag 29/10 och 19/11\nTid: 18.00-20.00\nÖppet hus\, ingen anmälan behövs.\n\nAnsvarig är Carola Monicadotter Lööf\, tfn 076 -787 9078.
URL:https://dis-filbyter.se/event/vadstena-slaktforskningshjalp-2/
LOCATION:ABF Vadstena\, Södra Vägen 30\, Vadstena
END:VEVENT
END:VCALENDAR