BEGIN:VCALENDAR
VERSION:2.0
PRODID:-//Släktforskning - ECPv6.1.2.2//NONSGML v1.0//EN
CALSCALE:GREGORIAN
METHOD:PUBLISH
X-WR-CALNAME:Släktforskning
X-ORIGINAL-URL:https://dis-filbyter.se
X-WR-CALDESC:Händelser för Släktforskning
REFRESH-INTERVAL;VALUE=DURATION:PT1H
X-Robots-Tag:noindex
X-PUBLISHED-TTL:PT1H
BEGIN:VTIMEZONE
TZID:Europe/Stockholm
BEGIN:DAYLIGHT
TZOFFSETFROM:+0100
TZOFFSETTO:+0200
TZNAME:CEST
DTSTART:20260329T010000
END:DAYLIGHT
BEGIN:STANDARD
TZOFFSETFROM:+0200
TZOFFSETTO:+0100
TZNAME:CET
DTSTART:20261025T010000
END:STANDARD
END:VTIMEZONE
BEGIN:VEVENT
DTSTART;TZID=Europe/Stockholm:20260131T110000
DTEND;TZID=Europe/Stockholm:20260131T130000
DTSTAMP:20260423T021352
CREATED:20260112T123336Z
LAST-MODIFIED:20260112T123336Z
UID:15899-1769857200-1769864400@dis-filbyter.se
SUMMARY:Mjölby Släktforskningens dag
DESCRIPTION:VÄLKOMMNA\nDis-Filbyter Mjölby.\nSläktforskningens dag 31/1 11.00-13.00\npå biblioteket i Mjölby.\n12.00 - 12.30 K-G Andersson föreläser om Farfar Andersson med gamla bilder.\n”Vi visar släktforskning och DNA”.
URL:https://dis-filbyter.se/event/mjolby-slaktforskningens-dag-2/
LOCATION:Biblioteket Mjölby\, Burensköldsvägen 13\, Mjölby\, 59530\, Sverige
END:VEVENT
BEGIN:VEVENT
DTSTART;TZID=Europe/Stockholm:20260131T110000
DTEND;TZID=Europe/Stockholm:20260131T150000
DTSTAMP:20260423T021352
CREATED:20251112T153937Z
LAST-MODIFIED:20251112T154032Z
UID:15523-1769857200-1769871600@dis-filbyter.se
SUMMARY:Linköping: Släktforskningens dag
DESCRIPTION:Släktforskningens dag\n2026-01-31\nVÄLKOMNA\nDIS-Filbyter - Linköping\nSläktforskningens dag 31/1 11.00-15.00\nPå stadsbiblioteket i Linköping.\nEn dag med släktforskarinformation.
URL:https://dis-filbyter.se/event/linkoping-slaktforskningens-dag-2/
LOCATION:Biblioteket Linköping\, Östgötagatan 5\, Linköping\, Linköping\, 582 32
ORGANIZER;CN="Helen%20Lindqvist":MAILTO:lindqvist660@gmail.com
END:VEVENT
END:VCALENDAR