BEGIN:VCALENDAR
VERSION:2.0
PRODID:-//Släktforskning - ECPv6.1.2.2//NONSGML v1.0//EN
CALSCALE:GREGORIAN
METHOD:PUBLISH
X-WR-CALNAME:Släktforskning
X-ORIGINAL-URL:https://dis-filbyter.se
X-WR-CALDESC:Händelser för Släktforskning
REFRESH-INTERVAL;VALUE=DURATION:PT1H
X-Robots-Tag:noindex
X-PUBLISHED-TTL:PT1H
BEGIN:VTIMEZONE
TZID:Europe/Stockholm
BEGIN:DAYLIGHT
TZOFFSETFROM:+0100
TZOFFSETTO:+0200
TZNAME:CEST
DTSTART:20260329T010000
END:DAYLIGHT
BEGIN:STANDARD
TZOFFSETFROM:+0200
TZOFFSETTO:+0100
TZNAME:CET
DTSTART:20261025T010000
END:STANDARD
END:VTIMEZONE
BEGIN:VEVENT
DTSTART;TZID=Europe/Stockholm:20260203T180000
DTEND;TZID=Europe/Stockholm:20260203T193000
DTSTAMP:20260423T070437
CREATED:20251112T143109Z
LAST-MODIFIED:20251112T143109Z
UID:15488-1770141600-1770147000@dis-filbyter.se
SUMMARY:Mjölby Föreläsning Gustav Vasa
DESCRIPTION:Föreläsare: Mikael Andersson\nGustav Vasa\nTisdag 3 februari 2026 18.00\nPlats: ABF Ostkupan Kanikegatan 15 Mjölby\nFöreläsningen är gratis\nGustav Vasa\, född 1496\, var Sveriges kung från 1523 fram till sin död\n1560. Under sin tid som regent arbetade han oavbrutet med att stärka\nden svenska kungamakten och centralisera rikets förvaltning. Som kung\nregerade han därför med hårda nypor och for våldsamt fram bland både\ninre och yttre fiender.\nAllt om detta i föreläsningen av Mikael Andersson.
URL:https://dis-filbyter.se/event/mjolby-forelasning-gustav-vasa/
LOCATION:ABF Mjölby\, Kanikegatan 15\, Mjölby
ORGANIZER;CN="Leif%20Ax":MAILTO:leifax@hotmail.se
END:VEVENT
BEGIN:VEVENT
DTSTART;TZID=Europe/Stockholm:20260203T180000
DTEND;TZID=Europe/Stockholm:20260203T203000
DTSTAMP:20260423T070437
CREATED:20251209T175750Z
LAST-MODIFIED:20251209T175750Z
UID:15780-1770141600-1770150600@dis-filbyter.se
SUMMARY:Kurs Zoom Transkribering av gamla skrifter\, steg 2. Startar 3/2\,17/2\, 3/3 och 17/3
DESCRIPTION:Genomgång av grundläggande begrepp och terminologi inom paleografin. Handskriftens utveckling över tid samt exempel på olika stiltyper från 1500-tallet till slutet 1800-tal. Svårare och ovanligare bokstavsformer\, förkortningar (allmänna och speciella) samt något om siffror. Transkribering av cirka 20 texter hämtade dels från kyrkböcker\, dels några andra källor. Texterna har olika svårighetsgrad främst medelsvåra och svåra.........
URL:https://dis-filbyter.se/event/kurs-zoom-transkribering-av-gamla-skrifter-steg-2-startar-3-217-2-3-3-och-17-3/
LOCATION:Zoom
ORGANIZER;CN="Torbj%C3%B6rn%20Wahlstr%C3%B6m":MAILTO:macenter@telia.com
END:VEVENT
END:VCALENDAR