BEGIN:VCALENDAR
VERSION:2.0
PRODID:-//Släktforskning - ECPv6.1.2.2//NONSGML v1.0//EN
CALSCALE:GREGORIAN
METHOD:PUBLISH
X-ORIGINAL-URL:https://dis-filbyter.se
X-WR-CALDESC:Händelser för Släktforskning
REFRESH-INTERVAL;VALUE=DURATION:PT1H
X-Robots-Tag:noindex
X-PUBLISHED-TTL:PT1H
BEGIN:VTIMEZONE
TZID:Europe/Stockholm
BEGIN:DAYLIGHT
TZOFFSETFROM:+0100
TZOFFSETTO:+0200
TZNAME:CEST
DTSTART:20260329T010000
END:DAYLIGHT
BEGIN:STANDARD
TZOFFSETFROM:+0200
TZOFFSETTO:+0100
TZNAME:CET
DTSTART:20261025T010000
END:STANDARD
END:VTIMEZONE
BEGIN:VEVENT
DTSTART;TZID=Europe/Stockholm:20260209T100000
DTEND;TZID=Europe/Stockholm:20260209T160000
DTSTAMP:20260423T114719
CREATED:20251209T181707Z
LAST-MODIFIED:20251209T181707Z
UID:15784-1770631200-1770652800@dis-filbyter.se
SUMMARY:Kurs Vadstena Disgen 2025\, grundkurs\, 3 ggr (heldag)
DESCRIPTION:Hur man använder programmet Disgen 2025 för att registrera sin forskning. \nSkapande mapp för alla släktdata. Programmets uppbyggnad. Inmatning/registrering av allehanda data rörande personer\, allt från födelse och dop till död och däremellan händelser i personens liv. Personens kopplingar och relationer till andra personer. Analyser och kontroller av notiser. Hantering av de orter/platser där personer bott eller verkat. Hantering av källor. Hantering av bilder. Presentationer och utskrifter på olika sätt\, ansedlar och antavlor. Hur man gör utdrag av sina data för att dela med andra och göra Disbyt-utdrag...................
URL:https://dis-filbyter.se/event/kurs-vadstena-disgen-2025-grundkurs-3-ggr-heldag/
LOCATION:ABF Vadstena\, Södra Vägen 30\, Vadstena
ORGANIZER;CN="Peter%20Bergstr%C3%B6m":MAILTO:peter.e.bergstrom@telia.com
END:VEVENT
END:VCALENDAR