BEGIN:VCALENDAR
VERSION:2.0
PRODID:-//Släktforskning - ECPv6.1.2.2//NONSGML v1.0//EN
CALSCALE:GREGORIAN
METHOD:PUBLISH
X-WR-CALNAME:Släktforskning
X-ORIGINAL-URL:https://dis-filbyter.se
X-WR-CALDESC:Händelser för Släktforskning
REFRESH-INTERVAL;VALUE=DURATION:PT1H
X-Robots-Tag:noindex
X-PUBLISHED-TTL:PT1H
BEGIN:VTIMEZONE
TZID:Europe/Stockholm
BEGIN:DAYLIGHT
TZOFFSETFROM:+0100
TZOFFSETTO:+0200
TZNAME:CEST
DTSTART:20260329T010000
END:DAYLIGHT
BEGIN:STANDARD
TZOFFSETFROM:+0200
TZOFFSETTO:+0100
TZNAME:CET
DTSTART:20261025T010000
END:STANDARD
END:VTIMEZONE
BEGIN:VEVENT
DTSTART;TZID=Europe/Stockholm:20260210T140000
DTEND;TZID=Europe/Stockholm:20260210T160000
DTSTAMP:20260423T132018
CREATED:20260113T191222Z
LAST-MODIFIED:20260113T191222Z
UID:15904-1770732000-1770739200@dis-filbyter.se
SUMMARY:Våren 2026 Mjölby Biblioteket.
DESCRIPTION:Släktforskarhjälp för nybörjare samt forskarstöd för alla på Biblioteket\nVÄLKOMNA tisdagar 14.00–16.00\n10/2\,   3/3\,   24/3\,   14/4\nAnmälan om deltagande krävs\, begränsat antal till 6\, meddelas\nLena Samuelsson via mail: lenasamuelsson51@gmail.com\neller telefon 070-5251030
URL:https://dis-filbyter.se/event/varen-2026-mjolby-biblioteket/
LOCATION:Biblioteket Mjölby\, Burensköldsvägen 13\, Mjölby\, 59530\, Sverige
ORGANIZER;CN="Lena%20Samuelsson":MAILTO:lenasamuelsson51@gmail.com
END:VEVENT
END:VCALENDAR