BEGIN:VCALENDAR
VERSION:2.0
PRODID:-//Släktforskning - ECPv6.1.2.2//NONSGML v1.0//EN
CALSCALE:GREGORIAN
METHOD:PUBLISH
X-ORIGINAL-URL:https://dis-filbyter.se
X-WR-CALDESC:Händelser för Släktforskning
REFRESH-INTERVAL;VALUE=DURATION:PT1H
X-Robots-Tag:noindex
X-PUBLISHED-TTL:PT1H
BEGIN:VTIMEZONE
TZID:Europe/Stockholm
BEGIN:DAYLIGHT
TZOFFSETFROM:+0100
TZOFFSETTO:+0200
TZNAME:CEST
DTSTART:20260329T010000
END:DAYLIGHT
BEGIN:STANDARD
TZOFFSETFROM:+0200
TZOFFSETTO:+0100
TZNAME:CET
DTSTART:20261025T010000
END:STANDARD
END:VTIMEZONE
BEGIN:VEVENT
DTSTART;TZID=Europe/Stockholm:20260218T180000
DTEND;TZID=Europe/Stockholm:20260218T200000
DTSTAMP:20260423T181502
CREATED:20251213T142420Z
LAST-MODIFIED:20251213T142420Z
UID:15808-1771437600-1771444800@dis-filbyter.se
SUMMARY:Vadstena vårens aktiviteter. Föreläsning: Dispos\, Disbyt. Anders Lindman Hjalmarsson
DESCRIPTION:Föreläsning: Dispos\, Disbyt. Anders Lindman Hjalmarsson
URL:https://dis-filbyter.se/event/vadstena-varens-aktiviteter-forelasning-dispos-disbyt-anders-lindman-hjalmarsson/
LOCATION:ABF Vadstena\, Södra Vägen 30\, Vadstena
END:VEVENT
END:VCALENDAR