BEGIN:VCALENDAR
VERSION:2.0
PRODID:-//Släktforskning - ECPv6.1.2.2//NONSGML v1.0//EN
CALSCALE:GREGORIAN
METHOD:PUBLISH
X-WR-CALNAME:Släktforskning
X-ORIGINAL-URL:https://dis-filbyter.se
X-WR-CALDESC:Händelser för Släktforskning
REFRESH-INTERVAL;VALUE=DURATION:PT1H
X-Robots-Tag:noindex
X-PUBLISHED-TTL:PT1H
BEGIN:VTIMEZONE
TZID:Europe/Stockholm
BEGIN:DAYLIGHT
TZOFFSETFROM:+0100
TZOFFSETTO:+0200
TZNAME:CEST
DTSTART:20260329T010000
END:DAYLIGHT
BEGIN:STANDARD
TZOFFSETFROM:+0200
TZOFFSETTO:+0100
TZNAME:CET
DTSTART:20261025T010000
END:STANDARD
END:VTIMEZONE
BEGIN:VEVENT
DTSTART;TZID=Europe/Stockholm:20260219T180000
DTEND;TZID=Europe/Stockholm:20260219T193000
DTSTAMP:20260423T194902
CREATED:20251112T164019Z
LAST-MODIFIED:20251112T164258Z
UID:15547-1771524000-1771529400@dis-filbyter.se
SUMMARY:Linköping: Getå Olyckan\, Zoom och Live på Fontänen
DESCRIPTION:Getå Olyckan Föreläsare: Mikael Andersson\nTorsdag 19 februari 2026 18.00\nPlats: Bergqvist ZOOM och Live på Fontänen \nFöreläsningen är gratis \nReservation för ändringar\, kolla gärna någon dag innan!\nOlyckan vid Getå\, den 1 oktober 1918 är fortfarande\nlandets största järnvägskatastrof. ”Ett massivt lerskred blev orsaken till Nordens största tågolycka. Tåg 422 från Malmö till Stockholm gick ur\nspår och lämnade minst 42 döda och ett hundratal\nskadade. Följ med historikern Mikael Andersson på en\nresa in i katastrofen”
URL:https://dis-filbyter.se/event/linkoping-geta-olyckan-zoom-och-live-pa-fontanen/
LOCATION:Fontänen Bergqvist + Zoom\, Västra Vägen 32\, Linköping
END:VEVENT
END:VCALENDAR