BEGIN:VCALENDAR
VERSION:2.0
PRODID:-//Släktforskning - ECPv6.1.2.2//NONSGML v1.0//EN
CALSCALE:GREGORIAN
METHOD:PUBLISH
X-WR-CALNAME:Släktforskning
X-ORIGINAL-URL:https://dis-filbyter.se
X-WR-CALDESC:Händelser för Släktforskning
REFRESH-INTERVAL;VALUE=DURATION:PT1H
X-Robots-Tag:noindex
X-PUBLISHED-TTL:PT1H
BEGIN:VTIMEZONE
TZID:Europe/Stockholm
BEGIN:DAYLIGHT
TZOFFSETFROM:+0100
TZOFFSETTO:+0200
TZNAME:CEST
DTSTART:20260329T010000
END:DAYLIGHT
BEGIN:STANDARD
TZOFFSETFROM:+0200
TZOFFSETTO:+0100
TZNAME:CET
DTSTART:20261025T010000
END:STANDARD
END:VTIMEZONE
BEGIN:VEVENT
DTSTART;TZID=Europe/Stockholm:20260224T180000
DTEND;TZID=Europe/Stockholm:20260224T193000
DTSTAMP:20260424T015352
CREATED:20251112T144035Z
LAST-MODIFIED:20251209T200741Z
UID:15492-1771956000-1771961400@dis-filbyter.se
SUMMARY:Mjölby: Media förr o nu\, människor jag har mött.
DESCRIPTION:Föreläsare: Ulf Holmertz\nMedia förr o nu\, människor jag har mött.\nTisdag 24 februari 2026 18.00\nPlats: ABF Ostkupan Kanikegatan 15 Mjölby\nFöreläsningen är gratis \nULF &quot;UFFE&quot; HOLMERTZ har varit journalist i över 50 år på tidningar\,\nSveriges Radio och TV4\, Kanal Lokal samt TV 24. Han är Ur-östgöte\nmen med småländskt blod i ådrorna. Han har skrivit 25 revyer samt sex\nsommarspel och varit minst sagt flitig på scenen.\nReservation för ändringar\, kolla gärna någon dag innan!\nDis-Filbyters hemsida dis-filbyter.se
URL:https://dis-filbyter.se/event/mjolby-media-forr-o-nu-manniskor-jag-har-mott/
LOCATION:ABF Mjölby\, Kanikegatan 15\, Mjölby
ORGANIZER;CN="Leif%20Ax":MAILTO:leifax@hotmail.se
END:VEVENT
END:VCALENDAR