BEGIN:VCALENDAR
VERSION:2.0
PRODID:-//Släktforskning - ECPv6.1.2.2//NONSGML v1.0//EN
CALSCALE:GREGORIAN
METHOD:PUBLISH
X-WR-CALNAME:Släktforskning
X-ORIGINAL-URL:https://dis-filbyter.se
X-WR-CALDESC:Händelser för Släktforskning
REFRESH-INTERVAL;VALUE=DURATION:PT1H
X-Robots-Tag:noindex
X-PUBLISHED-TTL:PT1H
BEGIN:VTIMEZONE
TZID:Europe/Stockholm
BEGIN:DAYLIGHT
TZOFFSETFROM:+0100
TZOFFSETTO:+0200
TZNAME:CEST
DTSTART:20260329T010000
END:DAYLIGHT
BEGIN:STANDARD
TZOFFSETFROM:+0200
TZOFFSETTO:+0100
TZNAME:CET
DTSTART:20261025T010000
END:STANDARD
END:VTIMEZONE
BEGIN:VEVENT
DTSTART;TZID=Europe/Stockholm:20260422T133000
DTEND;TZID=Europe/Stockholm:20260422T153000
DTSTAMP:20260422T224336
CREATED:20260224T094524Z
LAST-MODIFIED:20260224T094542Z
UID:16072-1776864600-1776871800@dis-filbyter.se
SUMMARY:Släktforskning\, grund på Zoom 3 ggr
DESCRIPTION:Z65-V26 Släktforskning\, grund på Zoom\n\n\nKursen genomförs i föreläsningsform på Zoom. Vi går igenom grunderna och hur du kommer igång\, hur du dokumenterar din forskning och tar vara på de ”levande arkiven” samt vad som finns i våra kyrkoarkiv mm. Vi visar hur du ska använda  verktygen Arkiv Digital (AD) och Riksarkivet (RA). \nKursledaren skickar Zoomlänk någon dag innan kursstart. Frågor kring Zoom - kontakta Bertil eller Helén.
URL:https://dis-filbyter.se/event/slaktforskning-grund-pa-zoom-3-ggr/
LOCATION:Zoom
ORGANIZER;CN="Bertil%20Lindqvist":MAILTO:bka.lindqvist@gmail.com
END:VEVENT
BEGIN:VEVENT
DTSTART;TZID=Europe/Stockholm:20260422T163000
DTEND;TZID=Europe/Stockholm:20260422T190000
DTSTAMP:20260422T224336
CREATED:20260113T195140Z
LAST-MODIFIED:20260114T114242Z
UID:15927-1776875400-1776884400@dis-filbyter.se
SUMMARY:AKTIVITETER Våren 2026 I BORENSBERG.
DESCRIPTION:Öppen släktforskning på biblioteket. Vi kommer att träffas varannan onsdag eftermiddag\nkl. 16.30 - 19.00 enl. följande datum  28/1\, 11/2\, 25/2\, 11/3 och 25/3\, 8/4 och 22/4..\nVi tar en kort paus\, så ta gärna med Dig eget fika.
URL:https://dis-filbyter.se/event/aktiviteter-varen-2026-i-borensberg-6/
LOCATION:Biblioteket Borensberg\, Husbyvägen 13\, Borensberg
ORGANIZER;CN="Monica%20Niklasson":MAILTO:monicaniklasson@telia.com
END:VEVENT
BEGIN:VEVENT
DTSTART;TZID=Europe/Stockholm:20260422T180000
DTEND;TZID=Europe/Stockholm:20260422T200000
DTSTAMP:20260422T224336
CREATED:20251213T145831Z
LAST-MODIFIED:20260224T200238Z
UID:15828-1776880800-1776888000@dis-filbyter.se
SUMMARY:Vadstena  Föreläsning. Mantalslängder av Carola
DESCRIPTION:Föreläsning. Mantalslängder av Carola
URL:https://dis-filbyter.se/event/vadstena-forelasning-tema-ej-klart/
LOCATION:ABF Vadstena\, Södra Vägen 30\, Vadstena
ORGANIZER;CN="Carola%20Monicadotter%20L%C3%B6%C3%B6f":MAILTO:carola.monicadotterloof@gmail.com
END:VEVENT
END:VCALENDAR