BEGIN:VCALENDAR
VERSION:2.0
PRODID:-//Släktforskning - ECPv6.1.2.2//NONSGML v1.0//EN
CALSCALE:GREGORIAN
METHOD:PUBLISH
X-WR-CALNAME:Släktforskning
X-ORIGINAL-URL:https://dis-filbyter.se
X-WR-CALDESC:Händelser för Släktforskning
REFRESH-INTERVAL;VALUE=DURATION:PT1H
X-Robots-Tag:noindex
X-PUBLISHED-TTL:PT1H
BEGIN:VTIMEZONE
TZID:Europe/Stockholm
BEGIN:DAYLIGHT
TZOFFSETFROM:+0100
TZOFFSETTO:+0200
TZNAME:CEST
DTSTART:20260329T010000
END:DAYLIGHT
BEGIN:STANDARD
TZOFFSETFROM:+0200
TZOFFSETTO:+0100
TZNAME:CET
DTSTART:20261025T010000
END:STANDARD
END:VTIMEZONE
BEGIN:VEVENT
DTSTART;TZID=Europe/Stockholm:20260423T140000
DTEND;TZID=Europe/Stockholm:20260423T160000
DTSTAMP:20260423T021633
CREATED:20251112T160703Z
LAST-MODIFIED:20260327T151108Z
UID:15538-1776952800-1776960000@dis-filbyter.se
SUMMARY:Åtvidaberg: Släktforskarhandledning
DESCRIPTION:Släktforskarhandledning\nVÅREN 2026\nVÄLKOMMEN\ntill oss på\nBiblioteket i Åtvidaberg \nVi kommer att finnas på biblioteket\n14.00-16.00\nföljande torsdagar:\n29/1\, 26/2\, 23/4 samt 28/5. \nOBS! 26/3 är tiden 17.30-19.30\nReservation för ändringar\, kolla gärna någon dag innan!
URL:https://dis-filbyter.se/event/atvidaberg-slaktforskarhandledning-4/
LOCATION:Biblioteket Åtvidaberg\, Åtvidaberg
END:VEVENT
END:VCALENDAR