BEGIN:VCALENDAR
VERSION:2.0
PRODID:-//Släktforskning - ECPv6.1.2.2//NONSGML v1.0//EN
CALSCALE:GREGORIAN
METHOD:PUBLISH
X-WR-CALNAME:Släktforskning
X-ORIGINAL-URL:https://dis-filbyter.se
X-WR-CALDESC:Händelser för Släktforskning
REFRESH-INTERVAL;VALUE=DURATION:PT1H
X-Robots-Tag:noindex
X-PUBLISHED-TTL:PT1H
BEGIN:VTIMEZONE
TZID:Europe/Stockholm
BEGIN:DAYLIGHT
TZOFFSETFROM:+0100
TZOFFSETTO:+0200
TZNAME:CEST
DTSTART:20240331T010000
END:DAYLIGHT
BEGIN:STANDARD
TZOFFSETFROM:+0200
TZOFFSETTO:+0100
TZNAME:CET
DTSTART:20241027T010000
END:STANDARD
BEGIN:DAYLIGHT
TZOFFSETFROM:+0100
TZOFFSETTO:+0200
TZNAME:CEST
DTSTART:20250330T010000
END:DAYLIGHT
BEGIN:STANDARD
TZOFFSETFROM:+0200
TZOFFSETTO:+0100
TZNAME:CET
DTSTART:20251026T010000
END:STANDARD
END:VTIMEZONE
BEGIN:VEVENT
DTSTART;VALUE=DATE:20240927
DTEND;VALUE=DATE:20241105
DTSTAMP:20260425T014532
CREATED:20240919T185215Z
LAST-MODIFIED:20240919T185215Z
UID:13861-1727395200-1730764799@dis-filbyter.se
SUMMARY:"Jenny och Ada” på Kisa bibliotek! 27 sept.- 4 nov. 2024
DESCRIPTION:"Jenny och Ada” med Dis-Filbyter på Kisa bibliotek!\nhttps://curmanska.dis.se/Digital_index.html \nPassa på att lära känna dessa engagerade damer och\nläs om spännande öden våra förfäder upplevt i\nutställningen Släktforskning - Inte bara namn och årtal.” \nVälkomna till Biblioteket i Kisa 27 sept.- 4 nov. 2024\nUtställningen är gratis!
URL:https://dis-filbyter.se/event/jenny-och-ada-pa-kisa-bibliotek-27-sept-4-nov-2024/
LOCATION:Kisa bibliotek\, Torggatan 2\, Kisa\, 59037
ORGANIZER;CN="Lisbeth%20Engdahl":MAILTO:lisbeth.lkp@gmail.com
END:VEVENT
BEGIN:VEVENT
DTSTART;TZID=Europe/Stockholm:20241024T180000
DTEND;TZID=Europe/Stockholm:20241024T190000
DTSTAMP:20260425T014532
CREATED:20240919T183051Z
LAST-MODIFIED:20240919T183821Z
UID:13859-1729792800-1729796400@dis-filbyter.se
SUMMARY:Kisa bibliotek och Dis-Filbyter bjuder in till föreläsning 24/10
DESCRIPTION:24/10 18.00-19.00 Släktforskarprogrammet DISGEN. Med\nAnders Lindman Hjalmarsson\nDisgen är släktforskarprogrammet som utvecklats av\nmedlemmar och för medlemmar i föreningen\nDIS. Föredraget handlar om programmets funktion och hur\ninformationen om släkten kan presenteras\nVälkommen till Kisa Bibliotek.\nFöreläsningarna är gratis.
URL:https://dis-filbyter.se/event/kisa-bibliotek-och-dis-filbyter-bjuder-in-till-forelasning-24-10/
LOCATION:Kisa bibliotek\, Torggatan 2\, Kisa\, 59037
ORGANIZER;CN="Anders%20Lindman%20Hjalmarsson":MAILTO:ka.lindman@gmail.com
END:VEVENT
BEGIN:VEVENT
DTSTART;TZID=Europe/Stockholm:20241028T140000
DTEND;TZID=Europe/Stockholm:20241028T163000
DTSTAMP:20260425T014532
CREATED:20240618T145409Z
LAST-MODIFIED:20240618T145609Z
UID:13717-1730124000-1730133000@dis-filbyter.se
SUMMARY:Kurs Motala: Disgen kartor 1 28 Oktober
DESCRIPTION:Disgen kartor 1\,  28 Oktober\, 3 ggr.
URL:https://dis-filbyter.se/event/kurs-motala-disgen-kartor-1-28-10/
LOCATION:ABF Motala\, Kyrkogatan 6\, Motala
ORGANIZER;CN="Bertil%20Lindqvist":MAILTO:bka.lindqvist@gmail.com
END:VEVENT
BEGIN:VEVENT
DTSTART;TZID=Europe/Stockholm:20241029T180000
DTEND;TZID=Europe/Stockholm:20241029T193000
DTSTAMP:20260425T014532
CREATED:20240608T153408Z
LAST-MODIFIED:20240608T153408Z
UID:13585-1730224800-1730230200@dis-filbyter.se
SUMMARY:Mjölby Datasäkerhet
DESCRIPTION:Datasäkerhet Ulf Frykman föreläser via länk på ZOOM \nTisdag 29 oktober 2024 18.00\nPlats: ABF Ostkupan Kanikegatan 15 Mjölby\nFöreläsningen är gratis \nBackup\, uppdateringar och Internet.\nVarför backup?\nIdag sparar vi nästan allt på datorn\, viktiga mail\, avtal\, ritningar\, bilder och\nmycket annat.\nMen vad händer om datorn plötsligt försvinner
URL:https://dis-filbyter.se/event/mjolby-datasakerhet/
LOCATION:ABF Ostkupan\, Kanikegatan 15\, Mjölby
ORGANIZER;CN="Leif%20Ax":MAILTO:leifax@hotmail.se
END:VEVENT
BEGIN:VEVENT
DTSTART;TZID=Europe/Stockholm:20241030T180000
DTEND;TZID=Europe/Stockholm:20241112T203000
DTSTAMP:20260425T014532
CREATED:20240618T134753Z
LAST-MODIFIED:20241109T102337Z
UID:13674-1730311200-1731443400@dis-filbyter.se
SUMMARY:Kurs: Disgen utskrifter Zoom. Start 30 oktober OBS NYTT DATUM
DESCRIPTION:Disgen utskrifter. Start 30 oktober\, 2 ggr. OBS NYTT DATUM
URL:https://dis-filbyter.se/event/zoom-disgen-utskrifter-start-16-oktober/
LOCATION:Zoom
ORGANIZER;CN="Bertil%20Lindqvist":MAILTO:bka.lindqvist@gmail.com
END:VEVENT
BEGIN:VEVENT
DTSTART;TZID=Europe/Stockholm:20241104T130000
DTEND;TZID=Europe/Stockholm:20241104T153000
DTSTAMP:20260425T014532
CREATED:20240618T143634Z
LAST-MODIFIED:20240618T143740Z
UID:13707-1730725200-1730734200@dis-filbyter.se
SUMMARY:Kurs: Disgen 2023\, grundkurs. Start 4 november
DESCRIPTION:Disgen 2023\, grundkurs. Start 4 november\, 6 ggr.
URL:https://dis-filbyter.se/event/kurs-disgen-2023-grundkurs-start-4-november/
LOCATION:Fontänen Feilitzen\, Västra vägen 32\, Linköping
ORGANIZER;CN="Peter%20Bergstr%C3%B6m":MAILTO:peter.e.bergstrom@telia.com
END:VEVENT
BEGIN:VEVENT
DTSTART;TZID=Europe/Stockholm:20241105T100000
DTEND;TZID=Europe/Stockholm:20241105T123000
DTSTAMP:20260425T014532
CREATED:20240618T144510Z
LAST-MODIFIED:20240618T144510Z
UID:13711-1730800800-1730809800@dis-filbyter.se
SUMMARY:Kurs: Tolka gamla texter - cirkel. Fortsättning. Start 5 november
DESCRIPTION:Tolka gamla texter - cirkel. Fortsättning. Start 5 november
URL:https://dis-filbyter.se/event/kurs-tolka-gamla-texter-cirkel-fortsattning-start-5-november/
LOCATION:Fontänen Hellströms\, Västra vägen 32\, Linköping
ORGANIZER;CN="Helen%20Lindqvist":MAILTO:lindqvist660@gmail.com
END:VEVENT
BEGIN:VEVENT
DTSTART;TZID=Europe/Stockholm:20241105T180000
DTEND;TZID=Europe/Stockholm:20241105T190000
DTSTAMP:20260425T014532
CREATED:20241010T190014Z
LAST-MODIFIED:20241010T190014Z
UID:13928-1730829600-1730833200@dis-filbyter.se
SUMMARY:Biblioteket i Horn och Dis-Filbyter bjuder in till föreläsning 5/11
DESCRIPTION:Biblioteket i Horn och Dis-Filbyter bjuder in till föreläsning \n5/11 18.00-19.00 Hur man börjar släktforska.\nMed Lisbeth Engdahl och Berit Peukert\nInformation hur man kommer igång\, hur man dokumenterar sin\nforskning och tar vara på de\n”levande arkiven” samt vad som finns i våra kyrkoarkiv. \nReservation för ändringar\, kolla gärna någon dag innan!\nDis-Filbyters hemsida dis-filbyter.se
URL:https://dis-filbyter.se/event/biblioteket-i-horn-och-dis-filbyter-bjuder-in-till-forelasning-5-11/
LOCATION:Biblioteket Horn\, Stångågatan 2\, Horn\, 590 42
ORGANIZER;CN="Berit%20Peukert":MAILTO:berpeu207@gmail.com
END:VEVENT
BEGIN:VEVENT
DTSTART;TZID=Europe/Stockholm:20241106T080000
DTEND;TZID=Europe/Stockholm:20241106T170000
DTSTAMP:20260425T014532
CREATED:20240618T135647Z
LAST-MODIFIED:20240618T140756Z
UID:13678-1730880000-1730912400@dis-filbyter.se
SUMMARY:Kurs: Domboksforskning\, grund Zoom. Start 6 november
DESCRIPTION:Domboksforskning\, grund. Start 6 november\, 4 ggr.
URL:https://dis-filbyter.se/event/domboksforskning-grund-start-6-november/
END:VEVENT
BEGIN:VEVENT
DTSTART;TZID=Europe/Stockholm:20241107T180000
DTEND;TZID=Europe/Stockholm:20241107T193000
DTSTAMP:20260425T014532
CREATED:20240608T123902Z
LAST-MODIFIED:20240608T123902Z
UID:13552-1731002400-1731007800@dis-filbyter.se
SUMMARY:Linköpings gatunamn
DESCRIPTION:Föreläsare: Stefan Ventura Linköpings gatunamn. Torsdag 7 november 2024 18.00\nPlats: LIVE och Zoom i lokal Bergqvist. Föreläsningen är gratis \nVar låg Tjuvagatan? Vem var Göran Dyk? Varför heter det Barfotegatan? De\nfrågorna och många andra svarar Stefan Ventura på i sin bok om Linköpings\ngatunamn. Nästan alla gatunamn har Stefan hittat en bakgrund till. Ofta har de\nfått namn efter gamla gårdar eller av verksamhet som funnits längs gatan –\nsom Snickaregatan och Repslagaregatan. Ågatan går till ån\, Tanneforsgatan gick\ntill mjölkvarnarna i Tannefors. På Barfotegatan gick man inte nödvändigtvis\nbarfota – gatan namngavs efter en kvinna vid namn Ulrica Barfoth som bodde\ndär.\nReservation för ändringar\, kolla gärna någon dag innan!
URL:https://dis-filbyter.se/event/linkopings-gatunamn/
LOCATION:Fontänen Bergqvist + Zoom\, Västra Vägen 32\, Linköping
ORGANIZER;CN="Peter%20Bergstr%C3%B6m":MAILTO:peter.e.bergstrom@telia.com
END:VEVENT
BEGIN:VEVENT
DTSTART;TZID=Europe/Stockholm:20241109T100000
DTEND;TZID=Europe/Stockholm:20241109T140000
DTSTAMP:20260425T014532
CREATED:20240618T144112Z
LAST-MODIFIED:20240618T144112Z
UID:13709-1731146400-1731160800@dis-filbyter.se
SUMMARY:Kurs: DNA Haplogrupp Y och mt. Helgkurs. 9 och 10 november
DESCRIPTION:DNA Haplogrupp Y och mt. Helgkurs. 9 och 10 november
URL:https://dis-filbyter.se/event/kurs-dna-haplogrupp-y-och-mt-helgkurs-9-och-10-november/
LOCATION:Fontänen Feilitzen\, Västra vägen 32\, Linköping
ORGANIZER;CN="Ulf%20frykman":MAILTO:ulf.frykman@bredband.net
END:VEVENT
BEGIN:VEVENT
DTSTART;TZID=Europe/Stockholm:20241112T180000
DTEND;TZID=Europe/Stockholm:20241112T190000
DTSTAMP:20260425T014532
CREATED:20241010T190243Z
LAST-MODIFIED:20241010T190243Z
UID:13931-1731434400-1731438000@dis-filbyter.se
SUMMARY:Biblioteket i Horn och Dis-Filbyter bjuder in till föreläsning 12/11
DESCRIPTION:Biblioteket i Horn och Dis-Filbyter bjuder in till föreläsning \n12/11 18.00-19.00 Släktforskarprogrammet DISGEN.\nMed Bertil Lindqvist\nDisgen är släktforskarprogrammet som utvecklats av\nmedlemmar och för medlemmar i föreningen DIS. Föredraget\nhandlar om programmets funktion och hur informationen om\nsläkten kan presenteras\nVälkommen till Biblioteket i Horn.\nFöreläsningarna är gratis. \nReservation för ändringar\, kolla gärna någon dag innan!\nDis-Filbyters hemsida dis-filbyter.se
URL:https://dis-filbyter.se/event/biblioteket-i-horn-och-dis-filbyter-bjuder-in-till-forelasning-12-11/
LOCATION:Biblioteket Horn\, Stångågatan 2\, Horn\, 590 42
ORGANIZER;CN="Bertil%20Lindqvist":MAILTO:bka.lindqvist@gmail.com
END:VEVENT
BEGIN:VEVENT
DTSTART;TZID=Europe/Stockholm:20241117T140000
DTEND;TZID=Europe/Stockholm:20241117T160000
DTSTAMP:20260425T014532
CREATED:20240531T081728Z
LAST-MODIFIED:20240531T081958Z
UID:13411-1731852000-1731859200@dis-filbyter.se
SUMMARY:Linköping Gesäller och lärlingar.
DESCRIPTION:17/11 Gesäller och lärlingar. Föredrag av Peter Bergström. Ingen föranmälan.\nLokal: Vegesacks rum\, vån 3.
URL:https://dis-filbyter.se/event/linkoping-gesaller-och-larlingar/
LOCATION:Fontänen Vegesack\, Västravägen 32\, Linköping
ORGANIZER;CN="Peter%20Bergstr%C3%B6m":MAILTO:peter.e.bergstrom@telia.com
END:VEVENT
BEGIN:VEVENT
DTSTART;TZID=Europe/Stockholm:20241119T180000
DTEND;TZID=Europe/Stockholm:20241119T193000
DTSTAMP:20260425T014532
CREATED:20240608T155107Z
LAST-MODIFIED:20240608T155107Z
UID:13596-1732039200-1732044600@dis-filbyter.se
SUMMARY:Mjölby Hitta rätt på Riksarkivet
DESCRIPTION:Hitta rätt på Riksarkivet Föreläsare: Anders Lindman Hjalmarsson\nTisdag 19 november 2024 18.00\nPlats: ABF Ostkupan Kanikegatan 15 Mjölby\nFöreläsningen är gratis. \nGenomgång av Riksarkivets webbsidor\, vad man kan hitta och hur arkivets\nsökning fungerar samt hur källorna kopplas till Disgen.\nÄven NAD\, Nationell arkivdatabas tas upp. \nReservation för ändringar\, kolla gärna någon dag innan!
URL:https://dis-filbyter.se/event/mjolby-hitta-ratt-pa-riksarkivet/
LOCATION:ABF Ostkupan\, Kanikegatan 15\, Mjölby
ORGANIZER;CN="Leif%20Ax":MAILTO:leifax@hotmail.se
END:VEVENT
BEGIN:VEVENT
DTSTART;TZID=Europe/Stockholm:20241126T190000
DTEND;TZID=Europe/Stockholm:20241126T200000
DTSTAMP:20260425T014532
CREATED:20240531T083807Z
LAST-MODIFIED:20241008T123856Z
UID:13420-1732647600-1732651200@dis-filbyter.se
SUMMARY:Zoom Disgen. 26/11
DESCRIPTION:26/11\, tisdag. Disgen. Eventuella nyheter. Allmän frågestund.\nDELTA Zoom möte\nNy länk kommer.
URL:https://dis-filbyter.se/event/zoom-disgen/
LOCATION:Zoom
ORGANIZER;CN="Bertil%20Lindqvist":MAILTO:bka.lindqvist@gmail.com
END:VEVENT
BEGIN:VEVENT
DTSTART;TZID=Europe/Stockholm:20241128T180000
DTEND;TZID=Europe/Stockholm:20241128T193000
DTSTAMP:20260425T014532
CREATED:20240608T133737Z
LAST-MODIFIED:20240608T133854Z
UID:13561-1732816800-1732822200@dis-filbyter.se
SUMMARY:Karl XII drabanter o deras mediciner
DESCRIPTION:Föreläsare: Stefan Ingesson\nKarl XII drabanter o deras mediciner\nTorsdag 28 november 2024 18.00\nPlats: LIVE och Zoom i lokal Bergqvist Fontänen\nFöreläsningen är gratis \n"I Kungens män - Karl XII:s Drabantkår”\nger Stefan Ingesson en målande bild av hur det militära livet tedde sig i\nstormaktstidens Sverige\, och inte minst ur ett medicinhistoriskt perspektiv. \nReservation för ändringar\, kolla gärna någon dag innan!
URL:https://dis-filbyter.se/event/karl-xii-drabanter-o-deras-mediciner/
LOCATION:Fontänen Bergqvist + Zoom\, Västra Vägen 32\, Linköping
ORGANIZER;CN="Peter%20Bergstr%C3%B6m":MAILTO:peter.e.bergstrom@telia.com
END:VEVENT
BEGIN:VEVENT
DTSTART;TZID=Europe/Stockholm:20241130T133000
DTEND;TZID=Europe/Stockholm:20241130T153000
DTSTAMP:20260425T014532
CREATED:20241018T145845Z
LAST-MODIFIED:20241018T152720Z
UID:13950-1732973400-1732980600@dis-filbyter.se
SUMMARY:Välkommen till Julfika med information! 30/11
DESCRIPTION:INBJUDAN TILL NYA MEDLEMMAR I DIS OCH DIS-\nFILBYTER\nVälkommen till Julfika med information! \nNär: lördagen den 30 november 2024 kl. 13.30-15.30\nVar: Bergqvist rum i Föreningshuset Fontänen\, Västra vägen 32\, Linköping.\nParkeringshuset Akilles alldeles i närheten. Busshållplats finns på Östgötagatan\neller Malmslättsvägen. Se gärna ostgotatrafiken.se för reseplanering.\nProgram: Kort information om föreningen och vad du som medlem får genom\nditt medlemskap.\nIntressant föredrag. Bengt Eriksson\, medlem sedan mycket länge\, berättar om\nsin släktforskarhistoria från 1960-talet till nu med betoning på hur mycket\nenklare det har blivit. Han avslutar med lite kort info om sitt DNA-projekt.\nJulkaffe/te\, lussekatter\, pepparkakor\, glögg.\nVisning av vår forskarsal.\nBegränsat deltagarantal pga. lokalens storlek. Först till kvarn gäller! Om fler än\nvi kan ta emot anmäler sig gör vi en ny träff efter nyår.\nVi ser fram emot att träffa er!\nSkicka din anmälan till Anita e-post: anitahjelm40@gmail.com\nVarmt välkomna!
URL:https://dis-filbyter.se/event/valkommen-till-julfika-med-information-30-11/
LOCATION:Fontänen Bergqvist\, Västra Vägen 32
ORGANIZER;CN="Anita%20Hj%C3%A4lm":MAILTO:anitahjelm40@gmail.com
END:VEVENT
BEGIN:VEVENT
DTSTART;TZID=Europe/Stockholm:20250107T180000
DTEND;TZID=Europe/Stockholm:20250107T203000
DTSTAMP:20260425T014532
CREATED:20241205T193526Z
LAST-MODIFIED:20241205T193751Z
UID:14252-1736272800-1736281800@dis-filbyter.se
SUMMARY:Släktforskning\, grundkurs 6 ggr. Linköping
DESCRIPTION:Du får lära dig grunderna i släktforskning\, hur man kommer igång\, hur man dokumenterar sin forskning och tar vara på de ”levande arkiven” samt vad som finns i våra kyrkoarkiv mm. Du kommer att få lära dig att använda verktygen Arkiv Digital (AD) och Riksarkivet (RA) på de övningar som ingår i kursen. Vi använder datorerna i datasalen......
URL:https://dis-filbyter.se/event/slaktforskning-grundkurs-6-ggr/
LOCATION:Fontänen datasalen\, Västra Vägen 32\, Linköping\, Sverige
ORGANIZER;CN="Berit%20Peukert":MAILTO:berpeu207@gmail.com
END:VEVENT
BEGIN:VEVENT
DTSTART;TZID=Europe/Stockholm:20250118T110000
DTEND;TZID=Europe/Stockholm:20250118T130000
DTSTAMP:20260425T014532
CREATED:20241208T170232Z
LAST-MODIFIED:20241208T170303Z
UID:14256-1737198000-1737205200@dis-filbyter.se
SUMMARY:Mjölby. Släktforskningens Dag
DESCRIPTION:Släktforskningens Dag\nVi visar släktforskning och DNA.\nLördag 18 januari 11.00 -13.00 2025 Plats: Biblioteket Mjölby\nNancy Svensson föreläser 11.30\n”Den sorgliga berättelsen om Ernst Teodor” farmors okände halvbror.\nAllmänna råd om dokumentering\, träd m.m. Föreläsningen är gratis
URL:https://dis-filbyter.se/event/mjolby-slaktforskningens-dag/
LOCATION:Biblioteket Mjölby\, Burensköldsvägen 13\, Mjölby\, 59530\, Sverige
ORGANIZER;CN="Leif%20Ax":MAILTO:leifax@hotmail.se
END:VEVENT
BEGIN:VEVENT
DTSTART;TZID=Europe/Stockholm:20250118T110000
DTEND;TZID=Europe/Stockholm:20250118T150000
DTSTAMP:20260425T014532
CREATED:20241209T110323Z
LAST-MODIFIED:20241209T110428Z
UID:14261-1737198000-1737212400@dis-filbyter.se
SUMMARY:Linköping Släktforskningens dag
DESCRIPTION:Släktforskningens dag\n2025-01-18 VÄLKOMNA\nDIS-Filbyter Linköping\nSläktforskningens dag 18/1 2025 kl.11-15\nPå stadsbiblioteket i Linköping.\nEn dag med släktforskarinformation.
URL:https://dis-filbyter.se/event/linkoping-slaktforskningens-dag/
LOCATION:Biblioteket Linköping\, Östgötagatan 5\, Linköping\, Linköping\, 582 32
END:VEVENT
BEGIN:VEVENT
DTSTART;TZID=Europe/Stockholm:20250122T133000
DTEND;TZID=Europe/Stockholm:20250219T160000
DTSTAMP:20260425T014532
CREATED:20241119T213335Z
LAST-MODIFIED:20241119T213426Z
UID:14101-1737552600-1739980800@dis-filbyter.se
SUMMARY:Zoom Hus- och fastighetsforskning 3 ggr
DESCRIPTION:Att kunna hitta äldre information om en fastighet kan ge helt nya perspektiv i sin släktforskning. I denna kurs får du kunskap om hur Du kan ta reda på information om din fastighet från nutid till forntid. Du får kunskap om fastighetsbildning från Gustav Wasas tid fram till nu. Vi ger tips och handledning i hur man söker bakåt i fastighetens ägarlängder\, och hur man söker i äldre kartmaterial mm.
URL:https://dis-filbyter.se/event/zoom-hus-och-fastighetsforskning-3-ggr/
ORGANIZER;CN="S%C3%B6ren%20Linde":MAILTO:soren.lindhe@lindcom.se
END:VEVENT
BEGIN:VEVENT
DTSTART;TZID=Europe/Stockholm:20250130T180000
DTEND;TZID=Europe/Stockholm:20250130T193000
DTSTAMP:20260425T014532
CREATED:20241127T135212Z
LAST-MODIFIED:20241127T150043Z
UID:14179-1738260000-1738265400@dis-filbyter.se
SUMMARY:Domprostens och biskopens nya hus i Linköping
DESCRIPTION:Föreläsare: Göran Tagesson\nEfter branden år 1700 låg stora delar av Linköpings stad i aska.\nSamtidigt var tiderna inte de mest gynnsamma för ett omfattande\nåteruppbyggnadsprojekt\, under det stora Nordiska kriget 1700-1721 och\npestutbrottet 1710-11. Trots detta har vi en mängd uppgifter om nya byggnadsprojekt i staden. Bland dessa fanns nya bostäder för domprosten och biskopen på 1720- och 1730-talet. ....\nFöreläsningen är gratis
URL:https://dis-filbyter.se/event/domprostens-och-biskopens-nya-hus-i-linkoping/
LOCATION:Fontänen Bergqvist + Zoom\, Västra Vägen 32\, Linköping
ORGANIZER;CN="Peter%20Bergstr%C3%B6m":MAILTO:peter.e.bergstrom@telia.com
END:VEVENT
BEGIN:VEVENT
DTSTART;TZID=Europe/Stockholm:20250203T130000
DTEND;TZID=Europe/Stockholm:20250310T153000
DTSTAMP:20260425T014532
CREATED:20241119T214244Z
LAST-MODIFIED:20250121T140632Z
UID:14103-1738587600-1741620600@dis-filbyter.se
SUMMARY:Kurs: Disgen 2023\, grundkurs 6 ggr
DESCRIPTION:Skapande mapp för alla släktdata. Programmets uppbyggnad. Inmatning/registrering av allehanda data rörande personer\, allt från födelse och dop till död och däremellan händelser i personens liv. Personens kopplingar och relationer till andra personer. Analyser och kontroller av notiser. Hantering av de orter/platser där personer bott eller verkat. Hantering av källor. Hantering av bilder. Presentationer och utskrifter på olika sätt\, ansedlar och antavlor. Hur man gör utdrag av sina data för att dela med andra och göra Disbyt-utdrag.
URL:https://dis-filbyter.se/event/disgen-2023-2025-grundkurs-6-ggr/
LOCATION:Fontänen Vegesack\, Västravägen 32\, Linköping
ORGANIZER;CN="Peter%20Bergstr%C3%B6m":MAILTO:peter.e.bergstrom@telia.com
END:VEVENT
BEGIN:VEVENT
DTSTART;TZID=Europe/Stockholm:20250204T180000
DTEND;TZID=Europe/Stockholm:20250204T193000
DTSTAMP:20260425T014533
CREATED:20241122T133914Z
LAST-MODIFIED:20241122T133955Z
UID:14118-1738692000-1738697400@dis-filbyter.se
SUMMARY:Mjölby: Karl XII:s drabanter o deras mediciner
DESCRIPTION:Föreläsare: Stefan Ingesson\nKarl XII:s drabanter o deras mediciner\nTisdag 4 februari 2025 18.00\nPlats: ABF Ostkupan Kanikegatan 15 Mjölby\nFöreläsningen är gratis \nI Kungens män - Karl XII:s Drabantkår”\nger Stefan Ingesson en målande bild av hur det militära livet tedde sig i\nstormaktstidens Sverige\, och inte minst ur ett medicinhistoriskt perspektiv. \nReservation för ändringar\, kolla gärna någon dag innan!
URL:https://dis-filbyter.se/event/mjolby-karl-xiis-drabanter-o-deras-mediciner-2/
LOCATION:ABF Mjölby\, Kanikegatan 15\, Mjölby
ORGANIZER;CN="Leif%20Ax":MAILTO:leifax@hotmail.se
END:VEVENT
BEGIN:VEVENT
DTSTART;TZID=Europe/Stockholm:20250204T180000
DTEND;TZID=Europe/Stockholm:20250318T203000
DTSTAMP:20260425T014533
CREATED:20241119T212128Z
LAST-MODIFIED:20241119T215351Z
UID:14093-1738692000-1742329800@dis-filbyter.se
SUMMARY:Zoom Tolkning av gamla skrifter\, steg 2. 4 ggr
DESCRIPTION:L32-V25 Tolkning av gamla skrifter\, steg 2.\nGenomgång av grundläggande begrepp och terminologi inom paleografin. Handskriftens utveckling över tid samt exempel på olika stiltyper från 1500-tallet till slutet 1800-tal. Svårare och ovanligare bokstavsformer\, förkortningar (allmänna och speciella) samt något om siffror. Transkribering av cirka 20 texter hämtade dels från kyrkböcker\, dels några andra källor....
URL:https://dis-filbyter.se/event/zoom-l32-v25-tolkning-av-gamla-skrifter-steg-2/
LOCATION:Zoom
ORGANIZER;CN="Torbj%C3%B6rn%20Wahlstr%C3%B6m":MAILTO:macenter@telia.com
END:VEVENT
BEGIN:VEVENT
DTSTART;TZID=Europe/Stockholm:20250209T140000
DTEND;TZID=Europe/Stockholm:20250209T160000
DTSTAMP:20260425T014533
CREATED:20250103T100948Z
LAST-MODIFIED:20250115T113456Z
UID:14343-1739109600-1739116800@dis-filbyter.se
SUMMARY:Medlemsmöte i Fontänen\, Linköping
DESCRIPTION:9/2 Disbyt\, Dispos. \nTvå bra hjälpmedel för oss släktforskare. \nFinn och byt släktuppgifter! Disbyt är databasen som ger dig möjlighet att söka efter dina förfäder. Du får också möjlighet att knyta kontakt och byta uppgifter med andra släktforskare som forskar på samma personer som du. \nVarför ska du skicka in din forskning till Disbyt? Vad kan du vinna på det? \nDet här är ett bra tillfälle för dig som ännu inte har skickat in något Disbytutdrag. Vi lär dig hur man gör! \nHar du frågor om dina inskickade bidrag så får du svar. \nDispos är din genväg till primära och sekundära källor inom släktforskningsområdet. \nNågra exempel på vad som finns i Dispos: \n\nGenom att ange årtal och församling får du reda på vilken kyrkoboksvolym och ungefärlig sida som du ska slå upp.\nKlickbara hänvisningar direkt till kyrkoboksvolymer och sidor hos  Riksarkivet (Digitala forskarsalen)\, ArkivDigital och Ancestry. Det krävs dock abonnemang hos ArkivDigital och Ancestry för att nå kyrkboksvolymerna.\nSidhänvisningar till husförshörslängderna\, om församlingen är ortnamnsindexerad.\n\nFunktionärer finns på plats och förklarar.
URL:https://dis-filbyter.se/event/medlemsmoten-i-fontanen-linkoping/
LOCATION:Fontänen Bergqvist + Zoom\, Västra Vägen 32\, Linköping
ORGANIZER;CN="Helen%20Lindqvist":MAILTO:lindqvist660@gmail.com
END:VEVENT
BEGIN:VEVENT
DTSTART;TZID=Europe/Stockholm:20250211T190000
DTEND;TZID=Europe/Stockholm:20250211T200000
DTSTAMP:20260425T014533
CREATED:20250115T114741Z
LAST-MODIFIED:20250115T114857Z
UID:14386-1739300400-1739304000@dis-filbyter.se
SUMMARY:Zoom: Genealogiska föreningen
DESCRIPTION:11/2 Genealogiska föreningen\, GF. Ordförande Thomas Fürth informerar på Zoom.\nGå med i möte på Zoom\nhttps://us02web.zoom.us/j/85634829743?pwd=mV2wrBqr5oEQH3ay15NM7L7dIdaNpC.1 \nMötes-ID: 856 3482 9743\nLösenkod: 986933
URL:https://dis-filbyter.se/event/zoom-genealogiska-foreningen/
LOCATION:Zoom
ORGANIZER;CN="Helen%20Lindqvist":MAILTO:lindqvist660@gmail.com
END:VEVENT
BEGIN:VEVENT
DTSTART;TZID=Europe/Stockholm:20250212T170000
DTEND;TZID=Europe/Stockholm:20250212T193000
DTSTAMP:20260425T014533
CREATED:20250121T135916Z
LAST-MODIFIED:20250121T140418Z
UID:14409-1739379600-1739388600@dis-filbyter.se
SUMMARY:Kurs: Disgen grunkurs kväll\, 6ggr
DESCRIPTION:Ny grundkurs i Disgen\, kvällstid hittar du under Kursutbud\, Linköping. Startar redan 12/2. Anmäl dig snarast för att säkert få plats.\n\nSkapande mapp för alla släktdata. Programmets uppbyggnad. Inmatning/registrering av allehanda data rörande personer\, allt från födelse och dop till död och däremellan händelser i personens liv. Personens kopplingar och relationer till andra personer. Analyser och kontroller av notiser. Hantering av de orter/platser där personer bott eller verkat. Hantering av källor. Hantering av bilder. Presentationer och utskrifter på olika sätt\, ansedlar och antavlor. Hur man gör utdrag av sina data för att dela med andra och göra Disbyt-utdrag.
URL:https://dis-filbyter.se/event/kurs-disgen-grunkurs-kvall-6ggr/
LOCATION:Fontänen datasalen\, Västra Vägen 32\, Linköping\, Sverige
ORGANIZER;CN="Bertil%20Lindqvist":MAILTO:bka.lindqvist@gmail.com
END:VEVENT
BEGIN:VEVENT
DTSTART;TZID=Europe/Stockholm:20250220T180000
DTEND;TZID=Europe/Stockholm:20250220T193000
DTSTAMP:20260425T014533
CREATED:20241127T140457Z
LAST-MODIFIED:20250228T162032Z
UID:14184-1740074400-1740079800@dis-filbyter.se
SUMMARY:Smedstad Gård genom tiderna
DESCRIPTION:Smedstad Gård genom tiderna\nFöreläsare:  Ulla-Britt Forsgren \nTorsdag 13 mars 2025 18.00\nPlats: LIVE och Zoom i lokal Bergqvist Fontänen\nFöreläsningen är gratis \nSmedstad gård genom tiderna från högre ståndsgård till militärt\növningsområde. Gården omnämns redan på 1200-talet\nsom Smidhastadh som tyder på att den anlagts under yngre järnåldern.....
URL:https://dis-filbyter.se/event/smedstad-gard-genom-tiderna/
LOCATION:Fontänen Bergqvist + Zoom\, Västra Vägen 32\, Linköping
ORGANIZER;CN="Peter%20Bergstr%C3%B6m":MAILTO:peter.e.bergstrom@telia.com
END:VEVENT
BEGIN:VEVENT
DTSTART;TZID=Europe/Stockholm:20250220T180000
DTEND;TZID=Europe/Stockholm:20250220T193000
DTSTAMP:20260425T014533
CREATED:20241127T141809Z
LAST-MODIFIED:20250209T124324Z
UID:14191-1740074400-1740079800@dis-filbyter.se
SUMMARY:Smedstad – en medeltida befäst gård
DESCRIPTION:Föreläsare: Ann-Charlott Feldt\nKlakeborg – en medeltida befäst gård\nTorsdag 20 februari 2025 18.00\nPlats: LIVE och Zoom i lokal Bergqvist Fontänen\nFöreläsningen är gratis \nAnn-Charlott Feldt\, arkeolog på Östergötlands museum\, berättar om gården Klakeborg som ligger där Skenaån och Svartån flyter samman och bildar en udde. Gårdens ägare kan följas från 1400-talet till idag. Utgrävningar på udden har gett fynd från stenålder till 1980-talet...... \nReservation för ändringar\, kolla gärna någon dag innan!
URL:https://dis-filbyter.se/event/klakeborg-en-medeltida-befast-gard/
LOCATION:Fontänen Bergqvist + Zoom\, Västra Vägen 32\, Linköping
ORGANIZER;CN="Peter%20Bergstr%C3%B6m":MAILTO:peter.e.bergstrom@telia.com
END:VEVENT
END:VCALENDAR