BEGIN:VCALENDAR
VERSION:2.0
PRODID:-//Släktforskning - ECPv6.1.2.2//NONSGML v1.0//EN
CALSCALE:GREGORIAN
METHOD:PUBLISH
X-WR-CALNAME:Släktforskning
X-ORIGINAL-URL:https://dis-filbyter.se
X-WR-CALDESC:Händelser för Släktforskning
REFRESH-INTERVAL;VALUE=DURATION:PT1H
X-Robots-Tag:noindex
X-PUBLISHED-TTL:PT1H
BEGIN:VTIMEZONE
TZID:Europe/Stockholm
BEGIN:DAYLIGHT
TZOFFSETFROM:+0100
TZOFFSETTO:+0200
TZNAME:CEST
DTSTART:20250330T010000
END:DAYLIGHT
BEGIN:STANDARD
TZOFFSETFROM:+0200
TZOFFSETTO:+0100
TZNAME:CET
DTSTART:20251026T010000
END:STANDARD
END:VTIMEZONE
BEGIN:VEVENT
DTSTART;TZID=Europe/Stockholm:20250930T190000
DTEND;TZID=Europe/Stockholm:20250930T200000
DTSTAMP:20260423T053528
CREATED:20250704T140630Z
LAST-MODIFIED:20250713T190251Z
UID:15009-1759258800-1759262400@dis-filbyter.se
SUMMARY:Medlemsmöte Zoom\, Disgen 2025. Tema: källhantering
DESCRIPTION:Tisdag 30 sept.: Disgen 2025. Tema: källhantering. Information om källhanteringen i nya Disgen 2025 med frågestund. Bertil Lindqvist och Anders Lindman Hjalmarsson ansvarar för mötet.
URL:https://dis-filbyter.se/event/medlemsmote-disgen-2025-tema-kallhantering/
LOCATION:Zoom
ORGANIZER;CN="Helen%20Lindqvist":MAILTO:lindqvist660@gmail.com
END:VEVENT
BEGIN:VEVENT
DTSTART;TZID=Europe/Stockholm:20251002T180000
DTEND;TZID=Europe/Stockholm:20251002T193000
DTSTAMP:20260423T053528
CREATED:20250713T160853Z
LAST-MODIFIED:20250930T180840Z
UID:15087-1759428000-1759433400@dis-filbyter.se
SUMMARY:Linköping\, "Bliva och vara gästgivare”’ LIVE och Zoom i lokal Bergqvist Fontänen
DESCRIPTION:Föreläsare:\nLars-Åke Stenemo\n"Bliva och vara gästgivare”’\nTorsdag 2 oktober 2025 18.00\nPlats: LIVE och Zoom i lokal Bergqvist Fontänen\nFöreläsningen är gratis \nFölj med på en fängslande resa genom ”häst och vagn-epoken” där gästgivargårdarna var landets nav. I detta föredrag möter du människorna bakom gästgiveriernas väggar: de första utnämnda värdarna\, äktenskap som karriärstrategi\, företag i skråväsendet tid som gick i arv genom\ngenerationer\, och starka kvinnor som drev gårdarna med både skärpa och hjärta.\nHär får du inblick i ett Sverige där gästgivarna inte bara serverade mat och.....
URL:https://dis-filbyter.se/event/linkoping-live-och-zoom-i-lokal-bergqvist-fontanen/
LOCATION:Fontänen Bergqvist + Zoom\, Västra Vägen 32\, Linköping
END:VEVENT
BEGIN:VEVENT
DTSTART;TZID=Europe/Stockholm:20251006T180000
DTEND;TZID=Europe/Stockholm:20251006T203000
DTSTAMP:20260423T053528
CREATED:20250530T105424Z
LAST-MODIFIED:20250530T105424Z
UID:14952-1759773600-1759782600@dis-filbyter.se
SUMMARY:Kurs: Disgen kartor 1\, 3ggr
DESCRIPTION:Kursen fokuserar på användning av Disgens grundkarta för placering och beskrivning av egna orter\, visning av den egna släkten\, hantering av för Disgen anpassade underlagskartor\, utskrifter samt visning av släkten på Google Earth Pro....
URL:https://dis-filbyter.se/event/kurs-disgen-kartor-1-3ggr/
LOCATION:Fontänen Bergqvist\, Västra Vägen 32
END:VEVENT
BEGIN:VEVENT
DTSTART;TZID=Europe/Stockholm:20251007T130000
DTEND;TZID=Europe/Stockholm:20251007T150000
DTSTAMP:20260423T053528
CREATED:20250912T102559Z
LAST-MODIFIED:20250912T102815Z
UID:15267-1759842000-1759849200@dis-filbyter.se
SUMMARY:Utflykt F 13 Bråvalla Norrköping
DESCRIPTION:Välkommen att besöka F13 Kamratföreningens museum\nBråvalla Norrköping\nTisdagen 7 oktober kl. 13.00\nFlygflottilj nr 13 sattes upp den 1 juli 1943. Förbandet antog det historiskt klingande namnet KUNGLIGA BRÅVALLA FLYGFLOTTILJ. Flottiljen blev en jaktflottilj och från 1946 ett föregångsförband för jetdriften inom Flygvapnet. Detta år utrustades den som första flygflottilj med den engelska De Havilland Vampire\, J28. Den blev även först med J 29 Tunnan\, J 35 Draken och JA 37 Viggen......
URL:https://dis-filbyter.se/event/utflykt-f-13-bravalla-norrkoping/
LOCATION:F13 Norrköping\, Norrköping
ORGANIZER;CN="Jan-%C3%85ke%20Eriksson%2C":MAILTO:jan-ake.eriksson@telia.com
END:VEVENT
BEGIN:VEVENT
DTSTART;TZID=Europe/Stockholm:20251007T180000
DTEND;TZID=Europe/Stockholm:20251007T193000
DTSTAMP:20260423T053528
CREATED:20250713T145949Z
LAST-MODIFIED:20250903T075202Z
UID:15064-1759860000-1759865400@dis-filbyter.se
SUMMARY:Mjölby\, Föreläsning ”Släktforskning extra Allt”
DESCRIPTION:Länk
URL:https://dis-filbyter.se/event/forelasningar-pa-ostkupan-i-mjolby-3/
LOCATION:ABF Ostkupan\, Kanikegatan 15\, Mjölby
ORGANIZER;CN="Leif%20Ax":MAILTO:leifax@hotmail.se
END:VEVENT
BEGIN:VEVENT
DTSTART;TZID=Europe/Stockholm:20251013T133000
DTEND;TZID=Europe/Stockholm:20251013T160000
DTSTAMP:20260423T053528
CREATED:20250529T135502Z
LAST-MODIFIED:20250530T110310Z
UID:14921-1760362200-1760371200@dis-filbyter.se
SUMMARY:Kurs Disgen 2025 Grundkurs 6ggr
DESCRIPTION:Hur man använder programmet Disgen 2025 för att registrera sin forskning
URL:https://dis-filbyter.se/event/kurs-disgen-2025-grundkurs-6ggr/
LOCATION:Fontänen Vegesack\, Västravägen 32\, Linköping
ORGANIZER;CN="Peter%20Bergstr%C3%B6m":MAILTO:peter.e.bergstrom@telia.com
END:VEVENT
BEGIN:VEVENT
DTSTART;TZID=Europe/Stockholm:20251014T190000
DTEND;TZID=Europe/Stockholm:20251014T200000
DTSTAMP:20260423T053528
CREATED:20250704T141005Z
LAST-MODIFIED:20250713T190352Z
UID:15011-1760468400-1760472000@dis-filbyter.se
SUMMARY:Medlemsmöte Zoom\, Disgen 2025. Tema: orter\, ortsträd och ortsautomatiken.
DESCRIPTION:Tisdag 14 okt.: Disgen 2025. Tema: orter\, ortsträd och ortsautomatiken. Genomgång med frågestund. Christer Gustavsson informerar och ansvarar för genomgången.
URL:https://dis-filbyter.se/event/medlemsmote-disgen-2025-tema-orter-ortstrad-och-ortsautomatiken/
LOCATION:Zoom
ORGANIZER;CN="Helen%20Lindqvist":MAILTO:lindqvist660@gmail.com
END:VEVENT
BEGIN:VEVENT
DTSTART;TZID=Europe/Stockholm:20251015T150000
DTEND;TZID=Europe/Stockholm:20251015T163000
DTSTAMP:20260423T053528
CREATED:20250921T143817Z
LAST-MODIFIED:20250921T143817Z
UID:15288-1760540400-1760545800@dis-filbyter.se
SUMMARY:Motala Hur söker man släktingar via DNA?
DESCRIPTION:Leif Ax berättar om hur man släktforskar med DNA. Han visar via datorn hur du kan använda ditt DNA-test. Du får även information om olika släktforskarprogram.\nPassa på att ställa frågor! \nVar: ABF Motala\, Kyrkogatan 6\nNär: Onsdag 15 oktober 2025 kl. 15.00
URL:https://dis-filbyter.se/event/motala-hur-soker-man-slaktingar-via-dna/
LOCATION:ABF Motala\, Kyrkogatan 6\, Motala
ORGANIZER;CN="Leif%20Ax":MAILTO:leifax@hotmail.se
END:VEVENT
BEGIN:VEVENT
DTSTART;TZID=Europe/Stockholm:20251022T100000
DTEND;TZID=Europe/Stockholm:20251022T120000
DTSTAMP:20260423T053528
CREATED:20250921T142720Z
LAST-MODIFIED:20250921T142740Z
UID:15282-1761127200-1761134400@dis-filbyter.se
SUMMARY:Åtvidaberg Släktforskarträff den 22 oktober
DESCRIPTION:Släktforskarträff den 22 oktober kl. 10-12\nVar: ABF lokalen\, Tilasbacken 3\, Åtvidaberg\nTema: Vi lär oss hur man använder Zoom för att lyssna på föredrag och utbildningar. Anders Lindman Hjalmarsson informerar och visar.\nMedlemmar som vill komma för en pratstund om släktforskning är såklart också välkomna.
URL:https://dis-filbyter.se/event/atvidaberg-slaktforskartraff-den-22-oktobe/
LOCATION:ABF Åtvidaberg\, Tilasbacken 3\, Åtvidaberg
ORGANIZER;CN="Anders%20Lindman%20Hjalmarsson":MAILTO:ka.lindman@gmail.com
END:VEVENT
BEGIN:VEVENT
DTSTART;TZID=Europe/Stockholm:20251022T163000
DTEND;TZID=Europe/Stockholm:20251022T190000
DTSTAMP:20260423T053528
CREATED:20250529T141721Z
LAST-MODIFIED:20250530T110537Z
UID:14927-1761150600-1761159600@dis-filbyter.se
SUMMARY:Kurs: Söka i tidningar på Kungliga biblioteket KB\, 1ggr
DESCRIPTION:Kungliga Biblioteket har hittills digitaliserat c:a 2000 titlar av svenska tidningar från 1645 till idag och fortsätter. Detta arkiv kan vara ett effektivt komplement för att hitta källor i din forskning.
URL:https://dis-filbyter.se/event/kurs-soka-i-tidningar-pa-kungliga-biblioteket-kb/
LOCATION:Fontänen datasalen\, Västra Vägen 32\, Linköping\, Sverige
END:VEVENT
BEGIN:VEVENT
DTSTART;TZID=Europe/Stockholm:20251023T150000
DTEND;TZID=Europe/Stockholm:20251210T180000
DTSTAMP:20260423T053528
CREATED:20251023T092030Z
LAST-MODIFIED:20251028T180053Z
UID:15376-1761231600-1765389600@dis-filbyter.se
SUMMARY:Motala Släktforskningshjälp
DESCRIPTION:ABF har öppnat en släktforskarstuga i sina lokaler på Kyrkogatan 6  i Motala i\nsamarbete med Dis-Filbyter. Efter önskemål med gruppen ställer Dis-Filbyter då och då upp med släktforskarhjälp\, föreläsningar osv. \nDu får hjälp med de grundläggande upplysningarna om hur du släktforskar. Det är drop-in träffar på onsdagar och du behöver inte göra någon föranmälan. Du kan komma vilken tid som passar dig bäst mellan kl. 15.00 – 18.00.
URL:https://dis-filbyter.se/event/motala-slaktforskningshjalp-4/
LOCATION:ABF Motala\, Kyrkogatan 6\, Motala
END:VEVENT
BEGIN:VEVENT
DTSTART;TZID=Europe/Stockholm:20251023T180000
DTEND;TZID=Europe/Stockholm:20251023T193000
DTSTAMP:20260423T053528
CREATED:20250713T170609Z
LAST-MODIFIED:20250713T170609Z
UID:15095-1761242400-1761247800@dis-filbyter.se
SUMMARY:Linköping\, LIVE och Zoom i lokal Bergqvist Fontänen
DESCRIPTION:Föreläsare: Johan Sievers\nLyckans smala hav ”Göta kanal”\nTorsdag 23 oktober 2025 18.00\nPlats: LIVE och Zoom i lokal Bergqvist Fontänen\nFöreläsningen är gratis \nJohan Sievers är journalist\, författare och slussvärd på Göta kanal. I en nyutkommen bok\, ”Lyckans smala hav” berättar han om Göta kanals 200-åriga historia ur delvis nya perspektiv. Många människor kliver fram ur det förgångna\, däribland alla kvinnor....
URL:https://dis-filbyter.se/event/linkoping-live-och-zoom-i-lokal-bergqvist-fontanen-2/
LOCATION:Fontänen Bergqvist + Zoom\, Västra Vägen 32\, Linköping
END:VEVENT
BEGIN:VEVENT
DTSTART;TZID=Europe/Stockholm:20251028T180000
DTEND;TZID=Europe/Stockholm:20251028T193000
DTSTAMP:20260423T053528
CREATED:20250713T145548Z
LAST-MODIFIED:20250903T075416Z
UID:15061-1761674400-1761679800@dis-filbyter.se
SUMMARY:Mjölby\, Föreläsning Är det sant! En del av min släkt.
DESCRIPTION:Länk
URL:https://dis-filbyter.se/event/forelasningar-pa-ostkupan-i-mjolby-2/
LOCATION:ABF Ostkupan\, Kanikegatan 15\, Mjölby
ORGANIZER;CN="Leif%20Ax":MAILTO:leifax@hotmail.se
END:VEVENT
BEGIN:VEVENT
DTSTART;TZID=Europe/Stockholm:20251029T150000
DTEND;TZID=Europe/Stockholm:20251029T180000
DTSTAMP:20260423T053528
CREATED:20251023T091043Z
LAST-MODIFIED:20251023T091043Z
UID:15368-1761750000-1761760800@dis-filbyter.se
SUMMARY:Motala Släktforskningshjälp
DESCRIPTION:ABF har öppnat en släktforskarstuga i sina lokaler på Kyrkogatan 6  i Motala i\nsamarbete med Dis-Filbyter. Efter önskemål med gruppen ställer Dis-Filbyter då och då upp med släktforskarhjälp\, föreläsningar osv. \nDu får hjälp med de grundläggande upplysningarna om hur du släktforskar. Det är drop-in träffar på onsdagar och du behöver inte göra någon föranmälan. Du kan komma vilken tid som passar dig bäst mellan kl. 15.00 – 18.00.
URL:https://dis-filbyter.se/event/motala-slaktforskningshjalp/
LOCATION:ABF Motala\, Kyrkogatan 6\, Motala
END:VEVENT
BEGIN:VEVENT
DTSTART;TZID=Europe/Stockholm:20251029T170000
DTEND;TZID=Europe/Stockholm:20251029T193000
DTSTAMP:20260423T053528
CREATED:20250529T135822Z
LAST-MODIFIED:20250530T105932Z
UID:14923-1761757200-1761766200@dis-filbyter.se
SUMMARY:Kurs Disgen 2025 grundkurs kväll 6ggr
DESCRIPTION:Hur man använder programmet Disgen 2025 för att registrera sin forskning
URL:https://dis-filbyter.se/event/kurs-disgen-2025-grundkurs-kvall-6ggr/
LOCATION:Fontänen datasalen\, Västra Vägen 32\, Linköping\, Sverige
ORGANIZER;CN="Peter%20Bergstr%C3%B6m":MAILTO:peter.e.bergstrom@telia.com
END:VEVENT
BEGIN:VEVENT
DTSTART;TZID=Europe/Stockholm:20251029T180000
DTEND;TZID=Europe/Stockholm:20251029T200000
DTSTAMP:20260423T053528
CREATED:20251022T114358Z
LAST-MODIFIED:20251023T085738Z
UID:15349-1761760800-1761768000@dis-filbyter.se
SUMMARY:Vadstena Släktforskningshjälp
DESCRIPTION:Släktforskning med handledning i ABFs lokal på Södra vägen startar nu hösten 2025. Den 29/10 deltar Bengt Eriksson från Linköping. Bengt inleder med att berätta "hur han hittade sin farmors föräldrar via DNA."\nNär: onsdag 29/10 och 19/11\nTid: 18.00-20.00\nÖppet hus\, ingen anmälan behövs.\n\nAnsvarig är Carola Monicadotter Lööf\, tfn 076 -787 9078.
URL:https://dis-filbyter.se/event/vadstena-slaktforskningshjalp/
LOCATION:ABF Vadstena\, Södra Vägen 30\, Vadstena
END:VEVENT
BEGIN:VEVENT
DTSTART;TZID=Europe/Stockholm:20251104T100000
DTEND;TZID=Europe/Stockholm:20251104T123000
DTSTAMP:20260423T053528
CREATED:20250529T142722Z
LAST-MODIFIED:20250529T151539Z
UID:14930-1762250400-1762259400@dis-filbyter.se
SUMMARY:Cirkel: Tolka gamla skrifter – fortsättningscirkel\, 3 ggr
DESCRIPTION:En studiecirkel för dig som vill fortsätta att öva upp dig och bli bättre på att läsa gamla texter. Obs\, du behöver inte ha deltagit i nybörjarcirkeln men kanske har forskat ett tag och läst lite text.
URL:https://dis-filbyter.se/event/tolka-gamla-skrifter-fortsattningscirkel-3-ggr/
LOCATION:Fontänen Hellströms\, Västra vägen 32\, Linköping
ORGANIZER;CN="Helen%20Lindqvist":MAILTO:lindqvist660@gmail.com
END:VEVENT
BEGIN:VEVENT
DTSTART;TZID=Europe/Stockholm:20251104T140000
DTEND;TZID=Europe/Stockholm:20251104T150000
DTSTAMP:20260423T053528
CREATED:20250925T093853Z
LAST-MODIFIED:20250925T094012Z
UID:15304-1762264800-1762268400@dis-filbyter.se
SUMMARY:Linköping Utflykt Välkommen att följa med till Östgötaregionens arkiv
DESCRIPTION:Vi besöker Regions arkivet och får en introduktion vad och hur man hittar i arkivet. Tyvärr inget fika pga. ombyggnad När: tisdagen 4 november kl. 14.00-15.00. Vi träffas i huvudentrén på Roxtorpsgatan 9 i\nstadsdelen Tornby. Max 25 deltagare och det är först till kvarn......
URL:https://dis-filbyter.se/event/linkoping-utflykt-valkommen-att-folja-med-till-ostgotaregionens-arkiv/
LOCATION:Regionarkivet\, Roxtorpsgatan 9 i Tornby\, Linkping
END:VEVENT
BEGIN:VEVENT
DTSTART;TZID=Europe/Stockholm:20251104T140000
DTEND;TZID=Europe/Stockholm:20251104T160000
DTSTAMP:20260423T053528
CREATED:20251023T090219Z
LAST-MODIFIED:20251023T090219Z
UID:15364-1762264800-1762272000@dis-filbyter.se
SUMMARY:Mjölby Släktforskningshjälp
DESCRIPTION:Släktforskarhjälp på biblioteket i Mjölby 4/11 och 25/11 kl. 14.00–16.00.\nAnmälan om deltagande krävs\, begränsat antal till 6\, meddelas\nLena Samuelsson via mail: lenasamuelsson51@gmail.com\neller telefon 070-5251030. Mer info under "Våra order"/Mjölby.
URL:https://dis-filbyter.se/event/mjolby-slaktforskningshjalp/
LOCATION:Biblioteket Mjölby\, Burensköldsvägen 13\, Mjölby\, 59530\, Sverige
END:VEVENT
BEGIN:VEVENT
DTSTART;TZID=Europe/Stockholm:20251105T150000
DTEND;TZID=Europe/Stockholm:20251105T180000
DTSTAMP:20260423T053528
CREATED:20251023T091421Z
LAST-MODIFIED:20251023T091421Z
UID:15372-1762354800-1762365600@dis-filbyter.se
SUMMARY:Motala Släktforskningshjälp
DESCRIPTION:ABF har öppnat en släktforskarstuga i sina lokaler på Kyrkogatan 6  i Motala i\nsamarbete med Dis-Filbyter. Efter önskemål med gruppen ställer Dis-Filbyter då och då upp med släktforskarhjälp\, föreläsningar osv. \nDu får hjälp med de grundläggande upplysningarna om hur du släktforskar. Det är drop-in träffar på onsdagar och du behöver inte göra någon föranmälan. Du kan komma vilken tid som passar dig bäst mellan kl. 15.00 – 18.00.
URL:https://dis-filbyter.se/event/motala-slaktforskningshjalp-2/
LOCATION:ABF Motala\, Kyrkogatan 6\, Motala
END:VEVENT
BEGIN:VEVENT
DTSTART;TZID=Europe/Stockholm:20251105T163000
DTEND;TZID=Europe/Stockholm:20251105T190000
DTSTAMP:20260423T053528
CREATED:20251023T085146Z
LAST-MODIFIED:20251023T085146Z
UID:15357-1762360200-1762369200@dis-filbyter.se
SUMMARY:Borensberg Släktforskningshjälp
DESCRIPTION:Öppen släktforskning på biblioteket i Borensberg 5/11\, 19/11\, och 3/12 kl. 16.30 - 19.00. Se även information under "Våra orter"/Borensberg
URL:https://dis-filbyter.se/event/borensberg-slaktforskningshjalp/
LOCATION:Biblioteket Borensberg\, Husbyvägen 13\, Borensberg
END:VEVENT
BEGIN:VEVENT
DTSTART;TZID=Europe/Stockholm:20251105T190000
DTEND;TZID=Europe/Stockholm:20251105T200000
DTSTAMP:20260423T053528
CREATED:20250704T141506Z
LAST-MODIFIED:20251020T091622Z
UID:15013-1762369200-1762372800@dis-filbyter.se
SUMMARY:Medlemsmöte Zoom\, Disgen 2025. Tema: DNA\, Nytt datum
DESCRIPTION:Onsdag 5 November: OBS! Nytt datum. \nDisgen 2025. Tema: DNA i nya Disgen 2025. Genomgång med frågestund. Anders Lindman Hjalmarsson och Birgitta Karlsson visar hur det detta fungerar i nya versionen av Disgen.
URL:https://dis-filbyter.se/event/medlemsmote-disgen-2025-tema-dna/
LOCATION:Zoom
ORGANIZER;CN="Helen%20Lindqvist":MAILTO:lindqvist660@gmail.com
END:VEVENT
BEGIN:VEVENT
DTSTART;TZID=Europe/Stockholm:20251106T093000
DTEND;TZID=Europe/Stockholm:20251106T120000
DTSTAMP:20260423T053528
CREATED:20250529T144758Z
LAST-MODIFIED:20250529T144758Z
UID:14935-1762421400-1762430400@dis-filbyter.se
SUMMARY:Kurs: Emigrantforskning USA\, introduktion\, 3ggr
DESCRIPTION:Vid första tillfället blir det genomgång av hur man hittar emigranter i USA
URL:https://dis-filbyter.se/event/kurs-emigrantforskning-usa-introduktion-3ggr/
LOCATION:Fontänen datasalen\, Västra Vägen 32\, Linköping\, Sverige
END:VEVENT
BEGIN:VEVENT
DTSTART;TZID=Europe/Stockholm:20251112T080000
DTEND;TZID=Europe/Stockholm:20251112T170000
DTSTAMP:20260423T053528
CREATED:20251112T155800Z
LAST-MODIFIED:20251112T155800Z
UID:15533-1762934400-1762966800@dis-filbyter.se
SUMMARY:Åtvidaberg: Släktforskarhandledning
DESCRIPTION:Släktforskarhandledning\nVÅREN 2026\nVÄLKOMMEN\ntill oss på\nBiblioteket i Åtvidaberg \nVi kommer att finnas på biblioteket\n14.00-16.00\nföljande torsdagar:\n29/1\, 26/2\, 30/4 samt 28/5. \nOBS! 26/3 är tiden 17.30-19.30\nReservation för ändringar\, kolla gärna någon dag innan!
URL:https://dis-filbyter.se/event/atvidaberg-slaktforskarhandledning-3/
END:VEVENT
BEGIN:VEVENT
DTSTART;TZID=Europe/Stockholm:20251112T080000
DTEND;TZID=Europe/Stockholm:20251112T170000
DTSTAMP:20260423T053528
CREATED:20251112T165733Z
LAST-MODIFIED:20251112T165733Z
UID:15557-1762934400-1762966800@dis-filbyter.se
SUMMARY:Linköping: Föreläsning Fontänen. Våren 2026
DESCRIPTION:Katedralskolans Linköpings Högre Allmänna Läroverks historia\, lärare och elever 1627-1968 Föreläsare: Åke Öberg\nTorsdag 19 mars 2026 18.00\nPlats: Bergqvist ZOOM och Live på Fontänen\nFöreläsningen är gratis. \nJag tänker kåsera lite om läroverkets historia 1627-1968\, då\nstudentexamen avskaffades\, lärare\, elever\, lokaler osv. \nReservation för ändringar\, kolla gärna någon dag innan!
URL:https://dis-filbyter.se/event/linkoping-forelasning-fontanen-varen-2026/
END:VEVENT
BEGIN:VEVENT
DTSTART;TZID=Europe/Stockholm:20251112T150000
DTEND;TZID=Europe/Stockholm:20251112T180000
DTSTAMP:20260423T053528
CREATED:20251023T091600Z
LAST-MODIFIED:20251028T175103Z
UID:15374-1762959600-1762970400@dis-filbyter.se
SUMMARY:Motala Släktforskningshjälp
DESCRIPTION:OBS nytt datum 19 november för: Bertil och Helén Lindqvist kommer och besöker släktforskarstugan.\n- Information om vad du som släktforskare får genom att använda programmet Disgen.\n- Information om nyheterna i Disgen 2025 för dig som har en tidigare version.\n- Frågestund \nMedlemmar och övriga intresserade är varmt välkomna! \n  \nABF har öppnat en släktforskarstuga i sina lokaler på Kyrkogatan 6  i Motala i\nsamarbete med Dis-Filbyter. Efter önskemål med gruppen ställer Dis-Filbyter då och då upp med släktforskarhjälp\, föreläsningar osv. \nDu får hjälp med de grundläggande upplysningarna om hur du släktforskar. Det är drop-in träffar på onsdagar och du behöver inte göra någon föranmälan. Du kan komma vilken tid som passar dig bäst mellan kl. 15.00 – 18.00.
URL:https://dis-filbyter.se/event/motala-slaktforskningshjalp-3/
LOCATION:ABF Motala\, Kyrkogatan 6\, Motala
END:VEVENT
BEGIN:VEVENT
DTSTART;TZID=Europe/Stockholm:20251113T140000
DTEND;TZID=Europe/Stockholm:20251113T160000
DTSTAMP:20260423T053528
CREATED:20251023T084823Z
LAST-MODIFIED:20251023T084823Z
UID:15355-1763042400-1763049600@dis-filbyter.se
SUMMARY:Åtvidaberg Släktforskningshjälp
DESCRIPTION:Släktforskarhjälp på biblioteket i Åtvidaberg den 13 november kl. 14.00-16.00. Välkommen\, ingen föranmälan. Se även information under "Våra orter"/Åtvidaberg
URL:https://dis-filbyter.se/event/atvidaberg-slaktforskningshjalp/
LOCATION:Biblioteket Åtvidaberg\, Åtvidaberg
END:VEVENT
BEGIN:VEVENT
DTSTART;TZID=Europe/Stockholm:20251113T180000
DTEND;TZID=Europe/Stockholm:20251113T193000
DTSTAMP:20260423T053528
CREATED:20250713T171348Z
LAST-MODIFIED:20251112T180216Z
UID:15099-1763056800-1763062200@dis-filbyter.se
SUMMARY:Linköping\, Rysshärjningarna LIVE och Zoom i lokal Bergqvist Fontänen
DESCRIPTION:Föreläsare: Lennart Lidman\nRysshärjningarna\nTorsdag 13 november 2025 18.00\nPlats: LIVE och Zoom i lokal Bergqvist Fontänen\nFöreläsningen är gratis \nDe ryska härjningarna av svenska ostkusten under åren 1719-21 är en av de mest dramatiska\nhändelserna i vår historia.\nLennart Lidman\, författare och föreläsare\, har gett ut tre romaner om dessa händelser\, vilka han\npresenterar och signerar i samband med föredraget.\nReservation för ändringar\, kolla gärna någon dag innan!
URL:https://dis-filbyter.se/event/linkoping-live-och-zoom-i-lokal-bergqvist-fontanen-3/
LOCATION:Fontänen Bergqvist + Zoom\, Västra Vägen 32\, Linköping
END:VEVENT
BEGIN:VEVENT
DTSTART;TZID=Europe/Stockholm:20251113T190000
DTEND;TZID=Europe/Stockholm:20251113T200000
DTSTAMP:20260423T053528
CREATED:20251023T181846Z
LAST-MODIFIED:20251024T074805Z
UID:15391-1763060400-1763064000@dis-filbyter.se
SUMMARY:Zoom Webbpresentation av släktdata
DESCRIPTION:DIS-träff och anmälningslänkar inför kommande DIS-träffar som ni kan använda i några utskick och på era respektive webbsidor.\n\nLänkar till anmälningsformulären är\nAnmäl dig här till DIS-träff 13 november\nhttps://forms.gle/CWWL1fiCVrNavtEL7
URL:https://dis-filbyter.se/event/webbpresentation-av-slaktdata/
LOCATION:Zoom
END:VEVENT
BEGIN:VEVENT
DTSTART;TZID=Europe/Stockholm:20251118T180000
DTEND;TZID=Europe/Stockholm:20251118T193000
DTSTAMP:20260423T053528
CREATED:20250903T080045Z
LAST-MODIFIED:20250903T080045Z
UID:15218-1763488800-1763494200@dis-filbyter.se
SUMMARY:Mjölby Föreläsning "Galgbackar och andra gravplatser i Skännige och Mjölby"
DESCRIPTION:Länk
URL:https://dis-filbyter.se/event/mjolby-forelasning-galgbackar-och-andra-gravplatser-i-skannige-och-mjolby/
LOCATION:ABF Ostkupan\, Kanikegatan 15\, Mjölby
ORGANIZER;CN="Leif%20Ax":MAILTO:leifax@hotmail.se
END:VEVENT
END:VCALENDAR