BEGIN:VCALENDAR
VERSION:2.0
PRODID:-//Släktforskning - ECPv6.1.2.2//NONSGML v1.0//EN
CALSCALE:GREGORIAN
METHOD:PUBLISH
X-ORIGINAL-URL:https://dis-filbyter.se
X-WR-CALDESC:Händelser för Släktforskning
REFRESH-INTERVAL;VALUE=DURATION:PT1H
X-Robots-Tag:noindex
X-PUBLISHED-TTL:PT1H
BEGIN:VTIMEZONE
TZID:Europe/Stockholm
BEGIN:DAYLIGHT
TZOFFSETFROM:+0100
TZOFFSETTO:+0200
TZNAME:CEST
DTSTART:20240331T010000
END:DAYLIGHT
BEGIN:STANDARD
TZOFFSETFROM:+0200
TZOFFSETTO:+0100
TZNAME:CET
DTSTART:20241027T010000
END:STANDARD
END:VTIMEZONE
BEGIN:VEVENT
DTSTART;TZID=Europe/Stockholm:20240904T180000
DTEND;TZID=Europe/Stockholm:20240904T203000
DTSTAMP:20260425T001433
CREATED:20240618T133649Z
LAST-MODIFIED:20240618T164145Z
UID:13668-1725472800-1725481800@dis-filbyter.se
SUMMARY:Kurs: Tolka gamla handskrifter Zoom. Start 4 september
DESCRIPTION:Avancerad kurs. Start 4 september\, 3 ggr.
URL:https://dis-filbyter.se/event/zoom-tolka-gamla-handskrifter-start-5-september/
LOCATION:Zoom
ORGANIZER;CN="Torbj%C3%B6rn%20Wahlstr%C3%B6m":MAILTO:macenter@telia.com
END:VEVENT
BEGIN:VEVENT
DTSTART;TZID=Europe/Stockholm:20240905T180000
DTEND;TZID=Europe/Stockholm:20240905T193000
DTSTAMP:20260425T001433
CREATED:20240608T115343Z
LAST-MODIFIED:20240608T115343Z
UID:13533-1725559200-1725564600@dis-filbyter.se
SUMMARY:Zoom ”Släktforska om sjöfolk”
DESCRIPTION:Föreläsare: Eva Johansson ”Släktforska om sjöfolk”\nTorsdag 5 september 2024 18.00 Plats: ZOOM\nkan även ses på ZOOM i Bergqvist Fontänen Föreläsningen är gratis \nSjömän är en väldokumenterad yrkesgrupp. Tack vare sjömanshusens arkivhandlingar kan vi hitta mycket information om sjömannens arbetsliv\ntill sjöss\, om resorna och om fartygen. Hur du hittar denna information berättar släktforskaren Eva Johansson i sitt föredrag den 5 september. Hon har skrivit handboken "Släktforska om sjöfolk&"\, utgiven av Sveriges Släktforskarförbund. Reservation för ändringar\, kolla gärna någon dag innan!
URL:https://dis-filbyter.se/event/zoom-slaktforska-om-sjofolk-2/
LOCATION:Fontänen Bergqvist + Zoom\, Västra Vägen 32\, Linköping
ORGANIZER;CN="Peter%20Bergstr%C3%B6m":MAILTO:peter.e.bergstrom@telia.com
END:VEVENT
BEGIN:VEVENT
DTSTART;TZID=Europe/Stockholm:20240909T190000
DTEND;TZID=Europe/Stockholm:20240909T200000
DTSTAMP:20260425T001433
CREATED:20240531T082755Z
LAST-MODIFIED:20240531T082755Z
UID:13417-1725908400-1725912000@dis-filbyter.se
SUMMARY:Zoom Arkiv Digital.
DESCRIPTION:9/9\, måndag. Arkiv Digital.\nDELTA Zoom möte\nhttps://us02web.zoom.us/j/83951821114?pwd=VzZXd2ZNbzcvWWlkZHp4ZjJSQWRr UT09\nMötes-ID: 839 5182 1114\nLösenkod: 439156
URL:https://dis-filbyter.se/event/zoom-arkiv-digital/
LOCATION:Zoom
END:VEVENT
BEGIN:VEVENT
DTSTART;TZID=Europe/Stockholm:20240915T140000
DTEND;TZID=Europe/Stockholm:20240915T160000
DTSTAMP:20260425T001433
CREATED:20240531T080928Z
LAST-MODIFIED:20240531T081303Z
UID:13406-1726408800-1726416000@dis-filbyter.se
SUMMARY:Linköping Släktforskning allmänt med tips och trix.
DESCRIPTION:15/9 DISkutera: Släktforskning allmänt med tips och trix. Har du funderingar kring\nsoldater\, Arkiv Digital\, Riksarkivets tjänster osv. Flera handledare på plats. Skicka\ngärna tips på vad du vill att vi ska ta upp. Använd länken ovan. Ingen föranmälan.\nLokal: Bergkvists rum
URL:https://dis-filbyter.se/event/slaktforskning-allmant-med-tips-och-trix/
LOCATION:Fontänen Bergqvist\, Västra Vägen 32
ORGANIZER;CN="Helen%20Lindqvist":MAILTO:lindqvist660@gmail.com
END:VEVENT
BEGIN:VEVENT
DTSTART;TZID=Europe/Stockholm:20240916T140000
DTEND;TZID=Europe/Stockholm:20240916T153000
DTSTAMP:20260425T001433
CREATED:20240619T130813Z
LAST-MODIFIED:20240619T131009Z
UID:13731-1726495200-1726500600@dis-filbyter.se
SUMMARY:Motala: Föreläsning Släktforska i Finland
DESCRIPTION:För en svensk släktforskare är det enkelt att forska efter anor i Finland. Myndigheter och kyrkobokföring använder svenska minst fram till 1880 trots att den östra svenska landhalvan blev ryskt storfurstendöme 1809. .......
URL:https://dis-filbyter.se/event/motala-slaktforska-i-finland/
LOCATION:Biblioteket Motala\, Repslagaregatan 1\, Motala\, 59130
END:VEVENT
BEGIN:VEVENT
DTSTART;TZID=Europe/Stockholm:20240917T180000
DTEND;TZID=Europe/Stockholm:20240917T193000
DTSTAMP:20260425T001433
CREATED:20240608T135352Z
LAST-MODIFIED:20240608T135352Z
UID:13569-1726596000-1726601400@dis-filbyter.se
SUMMARY:Mjölby Våra historiska arkiv
DESCRIPTION:Våra historiska arkiv Föreläsare: Claes Westling\nTisdag 17 september 2024 18.00\nPlats: ABF Ostkupan Kanikegatan 15 Mjölby\nFöreläsningen är gratis \nLänge har det saknats en handbok som ger en överblick över det rika historiska\nkällmaterial som finns i våra svenska arkiv.\nI tidigare böcker har fokus legat på ett område eller delar av det arkivmaterial\nsom finns att tillgå. Äntligen kommer här en översikt som visar vilken generös\nresurs våra ovärderliga arkiv är och tar ett grepp om skilda ämnesområden och\nvilka material som återfinns i olika arkiv. \nReservation för ändringar\, kolla gärna någon dag innan!
URL:https://dis-filbyter.se/event/mjolby-vara-historiska-arkiv/
LOCATION:ABF Ostkupan\, Kanikegatan 15\, Mjölby
ORGANIZER;CN="Leif%20Ax":MAILTO:leifax@hotmail.se
END:VEVENT
BEGIN:VEVENT
DTSTART;TZID=Europe/Stockholm:20240917T180000
DTEND;TZID=Europe/Stockholm:20240917T203000
DTSTAMP:20260425T001433
CREATED:20240618T134124Z
LAST-MODIFIED:20240618T140346Z
UID:13671-1726596000-1726605000@dis-filbyter.se
SUMMARY:Kurs: Disgen 2023 Zoom\, fördjupning. Start 17 september
DESCRIPTION:Disgen 2023\, fördjupning. Start 17 september\, 4 ggr.
URL:https://dis-filbyter.se/event/disgen-2023-fordjupning-start-17-september/
LOCATION:Zoom
ORGANIZER;CN="Anders%20Lindman%20Hjalmarsson":MAILTO:ka.lindman@gmail.com
END:VEVENT
BEGIN:VEVENT
DTSTART;TZID=Europe/Stockholm:20240917T180000
DTEND;TZID=Europe/Stockholm:20240917T203000
DTSTAMP:20260425T001433
CREATED:20240618T141240Z
LAST-MODIFIED:20240618T141240Z
UID:13693-1726596000-1726605000@dis-filbyter.se
SUMMARY:Kurs: Släktforskning grund. Kvällskurs\, 17 september
DESCRIPTION:Släktforskning\, grund\, kvällskurs. Start 17 september\, 6 ggr.
URL:https://dis-filbyter.se/event/kurs-slaktforskning-grund-kvallskurs-17-september/
LOCATION:Fontänen datasalen\, Västra Vägen 32\, Linköping\, Sverige
ORGANIZER;CN="Berit%20Peukert":MAILTO:berpeu207@gmail.com
END:VEVENT
BEGIN:VEVENT
DTSTART;TZID=Europe/Stockholm:20240918T100000
DTEND;TZID=Europe/Stockholm:20240918T160000
DTSTAMP:20260425T001433
CREATED:20240608T112621Z
LAST-MODIFIED:20240608T132730Z
UID:13524-1726653600-1726675200@dis-filbyter.se
SUMMARY:Välkommen till en forskardag på Riksarkivet i Vadstena slott!
DESCRIPTION:Välkommen till en forskardag med Dis-Filbyter på Riksarkivet i Vadstena slott!\nDatum: 18/9 kl. 10.00 – 16.00 \nDis-Filbyter bokar läsesalen på Riksarkivet för forskning. Det kommer även att ges information om vilken hjälp man kan få och hur det fungerar att tex beställa fram material/böcker. \nPersonal på Riksarkivet står till tjänst men även funktionärer från Dis-Filbyter. Vi rekommenderar att du tar med egna uppgifter som du kan forska på. Du kan också beställa fram material i förväg. Hör av dig om du behöver hjälp med det. \nDet finns pentry på plats för egen medtagen lunch eller alternativt äta på någon närbelägen restaurang. \nMax 20 personer\, först till kvarn gäller. Ingen kostnad.\nDu tar dig dit på egen hand med bil eller Östgötapendeln. \nAnmälan i länk\neller till Helén 0704109966.\nReservation för ändringar\, kolla gärna någon dag innan!\nDis-Filbyters hemsida dis-filbyter.se
URL:https://dis-filbyter.se/event/valkommen-till-en-forskardag-pa-riksarkivet-i-vadstena-slott/
LOCATION:Riksarkivet i Vadstena slott!\, Vadstena Slott\, Vadstena
ORGANIZER;CN="Helen%20Lindqvist":MAILTO:lindqvist660@gmail.com
END:VEVENT
BEGIN:VEVENT
DTSTART;TZID=Europe/Stockholm:20240919T093000
DTEND;TZID=Europe/Stockholm:20240919T120000
DTSTAMP:20260425T001433
CREATED:20240618T141544Z
LAST-MODIFIED:20240618T141544Z
UID:13695-1726738200-1726747200@dis-filbyter.se
SUMMARY:Kurs: Släktforskning\, grundkurs\, dagkurs. Start 19 september
DESCRIPTION:Släktforskning\, grundkurs\, dagkurs. Start 19 september\, 6 ggr
URL:https://dis-filbyter.se/event/kurs-slaktforskning-grundkurs-dagkurs-start-19-september/
LOCATION:Fontänen datasalen\, Västra Vägen 32\, Linköping\, Sverige
ORGANIZER;CN="Berit%20Peukert":MAILTO:berpeu207@gmail.com
END:VEVENT
BEGIN:VEVENT
DTSTART;TZID=Europe/Stockholm:20240925T093000
DTEND;TZID=Europe/Stockholm:20240925T120000
DTSTAMP:20260425T001433
CREATED:20240618T142712Z
LAST-MODIFIED:20240618T142712Z
UID:13701-1727256600-1727265600@dis-filbyter.se
SUMMARY:Kurs: Släktforskning i Finland. Start 25 september
DESCRIPTION:Släktforskning i Finland. Start 25 september\, 2 ggr.
URL:https://dis-filbyter.se/event/kurs-slaktforskning-i-finland-start-25-september/
LOCATION:Fontänen datasalen\, Västra Vägen 32\, Linköping\, Sverige
END:VEVENT
BEGIN:VEVENT
DTSTART;TZID=Europe/Stockholm:20240925T180000
DTEND;TZID=Europe/Stockholm:20240925T203000
DTSTAMP:20260425T001433
CREATED:20240618T142142Z
LAST-MODIFIED:20240618T142352Z
UID:13697-1727287200-1727296200@dis-filbyter.se
SUMMARY:Kurs: Disgen 2023\, utskrifter. Start 25 september
DESCRIPTION:Disgen 2023\, utskrifter. Start 25 september\, 2 ggr.
URL:https://dis-filbyter.se/event/kurs-disgen-2023-utskrifter-start-25-september/
LOCATION:Fontänen Feilitzen\, Västra vägen 32\, Linköping
ORGANIZER;CN="Bertil%20Lindqvist":MAILTO:bka.lindqvist@gmail.com
END:VEVENT
BEGIN:VEVENT
DTSTART;TZID=Europe/Stockholm:20240926T180000
DTEND;TZID=Europe/Stockholm:20240926T193000
DTSTAMP:20260425T001433
CREATED:20240608T114708Z
LAST-MODIFIED:20240608T120949Z
UID:13531-1727373600-1727379000@dis-filbyter.se
SUMMARY:Zoom Tyska flyktingar
DESCRIPTION:Sören Lindhe  Tyska flyktingar Torsdag 26 september 2024 18.00\nPlats: LIVE och Zoom i lokal Bergqvist Föreläsningen är gratis \nHittade en tidningsartikel hos en bonde när vi inventerade torp som handlade om en tysk flyktingfamilj som flytt från Tyskland 1945. Mannen påstod att han varit med vid det misslyckade 20-juli attentatet mot Hitler. Detta var så intressant att jag påbörjade en efterforskning kring sanningshalten i historien. Familjen hamnade i Östra Harg där de bodde några år och jag fann tidningsartikeln.\nReservation för ändringar\, kolla gärna någon dag innan!
URL:https://dis-filbyter.se/event/zoom-slaktforska-om-sjofolk/
LOCATION:Fontänen Bergqvist + Zoom\, Västra Vägen 32\, Linköping
ORGANIZER;CN="Peter%20Bergstr%C3%B6m":MAILTO:peter.e.bergstrom@telia.com
END:VEVENT
BEGIN:VEVENT
DTSTART;VALUE=DATE:20240927
DTEND;VALUE=DATE:20241105
DTSTAMP:20260425T001433
CREATED:20240919T185215Z
LAST-MODIFIED:20240919T185215Z
UID:13861-1727395200-1730764799@dis-filbyter.se
SUMMARY:"Jenny och Ada” på Kisa bibliotek! 27 sept.- 4 nov. 2024
DESCRIPTION:"Jenny och Ada” med Dis-Filbyter på Kisa bibliotek!\nhttps://curmanska.dis.se/Digital_index.html \nPassa på att lära känna dessa engagerade damer och\nläs om spännande öden våra förfäder upplevt i\nutställningen Släktforskning - Inte bara namn och årtal.” \nVälkomna till Biblioteket i Kisa 27 sept.- 4 nov. 2024\nUtställningen är gratis!
URL:https://dis-filbyter.se/event/jenny-och-ada-pa-kisa-bibliotek-27-sept-4-nov-2024/
LOCATION:Kisa bibliotek\, Torggatan 2\, Kisa\, 59037
ORGANIZER;CN="Lisbeth%20Engdahl":MAILTO:lisbeth.lkp@gmail.com
END:VEVENT
END:VCALENDAR