BEGIN:VCALENDAR
VERSION:2.0
PRODID:-//Släktforskning - ECPv6.1.2.2//NONSGML v1.0//EN
CALSCALE:GREGORIAN
METHOD:PUBLISH
X-ORIGINAL-URL:https://dis-filbyter.se
X-WR-CALDESC:Händelser för Släktforskning
REFRESH-INTERVAL;VALUE=DURATION:PT1H
X-Robots-Tag:noindex
X-PUBLISHED-TTL:PT1H
BEGIN:VTIMEZONE
TZID:Europe/Stockholm
BEGIN:DAYLIGHT
TZOFFSETFROM:+0100
TZOFFSETTO:+0200
TZNAME:CEST
DTSTART:20250330T010000
END:DAYLIGHT
BEGIN:STANDARD
TZOFFSETFROM:+0200
TZOFFSETTO:+0100
TZNAME:CET
DTSTART:20251026T010000
END:STANDARD
END:VTIMEZONE
BEGIN:VEVENT
DTSTART;TZID=Europe/Stockholm:20250203T130000
DTEND;TZID=Europe/Stockholm:20250310T153000
DTSTAMP:20260425T122735
CREATED:20241119T214244Z
LAST-MODIFIED:20250121T140632Z
UID:14103-1738587600-1741620600@dis-filbyter.se
SUMMARY:Kurs: Disgen 2023\, grundkurs 6 ggr
DESCRIPTION:Skapande mapp för alla släktdata. Programmets uppbyggnad. Inmatning/registrering av allehanda data rörande personer\, allt från födelse och dop till död och däremellan händelser i personens liv. Personens kopplingar och relationer till andra personer. Analyser och kontroller av notiser. Hantering av de orter/platser där personer bott eller verkat. Hantering av källor. Hantering av bilder. Presentationer och utskrifter på olika sätt\, ansedlar och antavlor. Hur man gör utdrag av sina data för att dela med andra och göra Disbyt-utdrag.
URL:https://dis-filbyter.se/event/disgen-2023-2025-grundkurs-6-ggr/
LOCATION:Fontänen Vegesack\, Västravägen 32\, Linköping
ORGANIZER;CN="Peter%20Bergstr%C3%B6m":MAILTO:peter.e.bergstrom@telia.com
END:VEVENT
BEGIN:VEVENT
DTSTART;TZID=Europe/Stockholm:20250204T180000
DTEND;TZID=Europe/Stockholm:20250318T203000
DTSTAMP:20260425T122735
CREATED:20241119T212128Z
LAST-MODIFIED:20241119T215351Z
UID:14093-1738692000-1742329800@dis-filbyter.se
SUMMARY:Zoom Tolkning av gamla skrifter\, steg 2. 4 ggr
DESCRIPTION:L32-V25 Tolkning av gamla skrifter\, steg 2.\nGenomgång av grundläggande begrepp och terminologi inom paleografin. Handskriftens utveckling över tid samt exempel på olika stiltyper från 1500-tallet till slutet 1800-tal. Svårare och ovanligare bokstavsformer\, förkortningar (allmänna och speciella) samt något om siffror. Transkribering av cirka 20 texter hämtade dels från kyrkböcker\, dels några andra källor....
URL:https://dis-filbyter.se/event/zoom-l32-v25-tolkning-av-gamla-skrifter-steg-2/
LOCATION:Zoom
ORGANIZER;CN="Torbj%C3%B6rn%20Wahlstr%C3%B6m":MAILTO:macenter@telia.com
END:VEVENT
BEGIN:VEVENT
DTSTART;TZID=Europe/Stockholm:20250304T100000
DTEND;TZID=Europe/Stockholm:20250304T123000
DTSTAMP:20260425T122735
CREATED:20241122T172205Z
LAST-MODIFIED:20241122T172205Z
UID:14136-1741082400-1741091400@dis-filbyter.se
SUMMARY:Kurs: Tolka gamla skrifter\, grund
DESCRIPTION:Vi lär oss tyda gamla texter. genom att studera alfabetets olika former i olika tidsperioder. Vi läser texter från 1800- och 1700-talet\, bl.a. husförhörslängder\, födelseböcker\, domboksprotokoll\, sockenprotokoll och får därigenom övning\, kunskap och vana.....
URL:https://dis-filbyter.se/event/kurs-tolka-gamla-skrifter-grund/
LOCATION:Fontänen Bergqvist\, Västra Vägen 32
ORGANIZER;CN="Kerstin%20T%C3%B6rnberg":MAILTO:ktoernberg@gmail.com
END:VEVENT
BEGIN:VEVENT
DTSTART;TZID=Europe/Stockholm:20250305T093000
DTEND;TZID=Europe/Stockholm:20250305T120000
DTSTAMP:20260425T122735
CREATED:20241122T174010Z
LAST-MODIFIED:20250122T152006Z
UID:14139-1741167000-1741176000@dis-filbyter.se
SUMMARY:Cirkel - Göra egen hemsida\, 4 ggr
DESCRIPTION:Kursen i cirkelform som består av tre delar:\n1. hur man ur släktdata i Disgen skapar de så kallade html-filer som behövs för att släktdata skall kunna visas med hjälp av en webbläsare\n2. visa vilka verktyg och program som behövs för att utifrån html-filerna ovan skapa grunden för hemsidorna\n3. hur man framför allt via webbhotell kan presentera släktmaterialet på webben\, hur domänen på webbhotellet administreras samt hur överföring och uppdatering av filer sker.....
URL:https://dis-filbyter.se/event/gora-egen-hemsida-cirkel/
LOCATION:Fontänen Feilitzen\, Västra vägen 32\, Linköping
ORGANIZER;CN="Anders%20Lindman%20Hjalmarsson":MAILTO:ka.lindman@gmail.com
END:VEVENT
BEGIN:VEVENT
DTSTART;TZID=Europe/Stockholm:20250312T180000
DTEND;TZID=Europe/Stockholm:20250312T203000
DTSTAMP:20260425T122735
CREATED:20241201T173355Z
LAST-MODIFIED:20241201T173946Z
UID:14223-1741802400-1741811400@dis-filbyter.se
SUMMARY:Kurs: Disgen kartor 1\, 3ggr
DESCRIPTION:Kursen fokuserar på användning av Disgens grundkarta för placering och beskrivning av egna orter\, visning av den egna släkten\, hantering av för Disgen anpassade underlagskartor\, utskrifter samt visning av släkten på Google Earth Pro. \nFörkunskaper: Deltagarna förutsätts ha goda kunskaper i Windows och kräver kunskaper motsvarande Disgen grundkurs. Kolla gärna dina kunskaper med vårt dokument "Funktioner i Windows som är viktiga att känna till" som du hittar här på webbsidan. Du kan även kontakta kursledare eller kursadministratör.....
URL:https://dis-filbyter.se/event/kurs-l05-v25-disgen-kartor-1/
LOCATION:Fontänen Vegesack\, Västravägen 32\, Linköping
END:VEVENT
BEGIN:VEVENT
DTSTART;TZID=Europe/Stockholm:20250313T180000
DTEND;TZID=Europe/Stockholm:20250313T193000
DTSTAMP:20260425T122735
CREATED:20250228T162500Z
LAST-MODIFIED:20250228T162500Z
UID:14566-1741888800-1741894200@dis-filbyter.se
SUMMARY:Klakeborg – en medeltida befäst gård
DESCRIPTION:Föreläsare: Ann-Charlott Feldt\nTorsdag 13 Mars 2025 18.00\nPlats: LIVE och Zoom i lokal Bergqvist Fontänen\nFöreläsningen är gratis\nAnn-Charlott Feldt\, arkeolog på Östergötlands museum\, berättar om gården Klakeborg som ligger där Skenaån och Svartån flyter samman och bildar en udde. Gårdens ägare kan följas från 1400-talet till idag. Utgrävningar på udden har gett fynd från stenålder till 1980-talet. \nJoin Zoom Meeting\nhttps://us02web.zoom.us/j/87492642053?pwd=rnkYVkxqAP49ageZCdwFaM1MKumNA6.1\nMötes-ID: 874 9264 2053\nLösenkod: 093580
URL:https://dis-filbyter.se/event/klakeborg-en-medeltida-befast-gard-2/
LOCATION:Fontänen Bergqvist + Zoom\, Västra Vägen 32\, Linköping
ORGANIZER;CN="Peter%20Bergstr%C3%B6m":MAILTO:peter.e.bergstrom@telia.com
END:VEVENT
BEGIN:VEVENT
DTSTART;TZID=Europe/Stockholm:20250318T180000
DTEND;TZID=Europe/Stockholm:20250318T193000
DTSTAMP:20260425T122735
CREATED:20241122T141250Z
LAST-MODIFIED:20241122T141406Z
UID:14128-1742320800-1742326200@dis-filbyter.se
SUMMARY:Mjölby: Släktforska i Finland
DESCRIPTION:Föreläsare: Bengt Eriksson\nSläktforska i Finland\nTisdag 18 mars 2025 18.00\nPlats: ABF Ostkupan Kanikegatan 15 Mjölby\nFöreläsningen är gratis \nFör en svensk släktforskare är det enkelt att forska efter anor i Finland. Myndigheter och kyrkobokföring använder svenska minst fram till 1880 trots att den östra svenska landhalvan blev ryskt storfurstendöme 1809. Föredraget ger introduktion till att forska i Finland tillräckligt för att du kan börja forska över nätet på\negen hand. Lite historia\, många finska databaser\, lite kurs i finska språket och en lathund för att hitta källor presenteras.
URL:https://dis-filbyter.se/event/mjolby-slaktforska-i-finland/
LOCATION:ABF Mjölby\, Kanikegatan 15\, Mjölby
ORGANIZER;CN="Leif%20Ax":MAILTO:leifax@hotmail.se
END:VEVENT
BEGIN:VEVENT
DTSTART;TZID=Europe/Stockholm:20250323T140000
DTEND;TZID=Europe/Stockholm:20250323T160000
DTSTAMP:20260425T122735
CREATED:20250103T101520Z
LAST-MODIFIED:20250322T085342Z
UID:14348-1742738400-1742745600@dis-filbyter.se
SUMMARY:Medlemsmöten i Fontänen\, Linköping NAD
DESCRIPTION:23/3 Riksarkivet och NAD
URL:https://dis-filbyter.se/event/medlemsmoten-i-fontanen-linkoping-3/
LOCATION:Fontänen Bergqvist\, Västra Vägen 32
ORGANIZER;CN="Helen%20Lindqvist":MAILTO:lindqvist660@gmail.com
END:VEVENT
BEGIN:VEVENT
DTSTART;TZID=Europe/Stockholm:20250326T160000
DTEND;TZID=Europe/Stockholm:20250326T190000
DTSTAMP:20260425T122735
CREATED:20250102T134531Z
LAST-MODIFIED:20250102T135816Z
UID:14331-1743004800-1743015600@dis-filbyter.se
SUMMARY:Kurs Linköping: Söka i tidningar på KB
DESCRIPTION:Kungliga Biblioteket har hittills digitaliserat c:a 2000 titlar av svenska tidningar från 1645 till idag och fortsätter. Detta arkiv kan vara ett effektivt komplement för att hitta källor i din forskning.\nMålet är att lära sig söka effektivt på Kungliga Bibliotekets digitala arkiv........
URL:https://dis-filbyter.se/event/kurs-linkoping-soka-i-tidningar-pa-kb/
LOCATION:Fontänen datasalen\, Västra Vägen 32\, Linköping\, Sverige
END:VEVENT
BEGIN:VEVENT
DTSTART;TZID=Europe/Stockholm:20250331T190000
DTEND;TZID=Europe/Stockholm:20250331T200000
DTSTAMP:20260425T122735
CREATED:20250103T102147Z
LAST-MODIFIED:20250322T085437Z
UID:14352-1743447600-1743451200@dis-filbyter.se
SUMMARY:Digitala möten på Zoom Polisunderrättelser
DESCRIPTION:31/3  Polisunderrättelser.\nChris Bingefors\, v ordförande i Sveriges släktforskarförbund föreläser. \nJoin Zoom Meeting\nhttps://us02web.zoom.us/j/85804071360?pwd=hVJAaICERwoPNcJvUrzY69JbgoQD38.1\nMötes-ID: 858 0407 1360\nLösenkod: 402523
URL:https://dis-filbyter.se/event/digitala-moten-pa-zoom/
LOCATION:Zoom
ORGANIZER;CN="Helen%20Lindqvist":MAILTO:lindqvist660@gmail.com
END:VEVENT
END:VCALENDAR