BEGIN:VCALENDAR
VERSION:2.0
PRODID:-//Släktforskning - ECPv6.1.2.2//NONSGML v1.0//EN
CALSCALE:GREGORIAN
METHOD:PUBLISH
X-ORIGINAL-URL:https://dis-filbyter.se
X-WR-CALDESC:Händelser för Släktforskning
REFRESH-INTERVAL;VALUE=DURATION:PT1H
X-Robots-Tag:noindex
X-PUBLISHED-TTL:PT1H
BEGIN:VTIMEZONE
TZID:Europe/Stockholm
BEGIN:DAYLIGHT
TZOFFSETFROM:+0100
TZOFFSETTO:+0200
TZNAME:CEST
DTSTART:20250330T010000
END:DAYLIGHT
BEGIN:STANDARD
TZOFFSETFROM:+0200
TZOFFSETTO:+0100
TZNAME:CET
DTSTART:20251026T010000
END:STANDARD
END:VTIMEZONE
BEGIN:VEVENT
DTSTART;TZID=Europe/Stockholm:20250507T190000
DTEND;TZID=Europe/Stockholm:20250507T200000
DTSTAMP:20260423T070726
CREATED:20250322T085241Z
LAST-MODIFIED:20250322T085241Z
UID:14627-1746644400-1746648000@dis-filbyter.se
SUMMARY:Zoom: Disgen 2025. Information om nyheterna
DESCRIPTION:7/5 Disgen 2025. Information om nyheterna i nya versionen. \nDIS Filbyter bjuder in dig till ett schemalagt möte på Zoom. \nGå med i möte på Zoom
URL:https://dis-filbyter.se/event/zoom-disgen-2025-information-om-nyheterna-2/
LOCATION:Zoom
ORGANIZER;CN="Bertil%20Lindqvist":MAILTO:bka.lindqvist@gmail.com
END:VEVENT
BEGIN:VEVENT
DTSTART;TZID=Europe/Stockholm:20250508T180000
DTEND;TZID=Europe/Stockholm:20250508T200000
DTSTAMP:20260423T070726
CREATED:20250407T150508Z
LAST-MODIFIED:20250407T151419Z
UID:14666-1746727200-1746734400@dis-filbyter.se
SUMMARY:Vadstena Dis-Filbyter till Minne av Göran Åhäll
DESCRIPTION:Föreläsare: Claes Westling\n”Släktforskning extra allt”\nÄr du klar med husförhörslängderna? Vi går igenom olika typer\nav arkivmaterial som kan hjälpa dej att komma närmare\nmänniskorna förr i världen.\nTorsdag 8 maj 2025 18.00-20.00\nPlats: I Föreningshuset\, sal Paradiset Stockmakaregatan 8 i\nVadstena....
URL:https://dis-filbyter.se/event/vadstena-dis-filbyter-till-minne-av-goran-ahall/
LOCATION:Vadstena Stockmakaregatan 8\, Stockmakaregatan 8\, Vadstena
ORGANIZER;CN="Anders%20Lindman%20Hjalmarsson":MAILTO:ka.lindman@gmail.com
END:VEVENT
BEGIN:VEVENT
DTSTART;TZID=Europe/Stockholm:20250511T140000
DTEND;TZID=Europe/Stockholm:20250511T160000
DTSTAMP:20260423T070726
CREATED:20250322T084634Z
LAST-MODIFIED:20250413T153119Z
UID:14622-1746972000-1746979200@dis-filbyter.se
SUMMARY:Disgen 2025. Information om nyheterna. Bergqvist
DESCRIPTION:11/5 Disgen 2025. Information om nyheterna i nya versionen. \nVälkommen till Fontänen kl. 14.00 söndagen den 23 mars och 11 maj. Vi bjuder på fika som vanligt.
URL:https://dis-filbyter.se/event/disgen-2025-information-om-nyheterna/
LOCATION:Fontänen Bergqvist\, Västra Vägen 32
ORGANIZER;CN="Bertil%20Lindqvist":MAILTO:bka.lindqvist@gmail.com
END:VEVENT
BEGIN:VEVENT
DTSTART;TZID=Europe/Stockholm:20250521T180000
DTEND;TZID=Europe/Stockholm:20250521T193000
DTSTAMP:20260423T070726
CREATED:20250404T103742Z
LAST-MODIFIED:20250413T163255Z
UID:14653-1747850400-1747855800@dis-filbyter.se
SUMMARY:Stjärnorps slott\, Bergqvist + Zoom
DESCRIPTION:Föreläsare: Elisabeth Kihlberg\,\nOnsdag 21 maj 2025 18.00\nPlats Live och Zoom i lokal Bergqvist\nFontänen\nFöreläsningen är gratis\nElisabet kommer att berätta om bygden omkring Stjärnorps slott som ligger i\nStjärnorps socken norr om sjön Roxen. samt om familjen Douglas och deras\ningifta. Det blir även en berättelse om slottets historia. Du kommer att få höra\nom en historia om gravkoret i Vreta klosters kyrka.....
URL:https://dis-filbyter.se/event/stjarnorps-slott/
LOCATION:Fontänen Bergqvist + Zoom\, Västra Vägen 32\, Linköping
END:VEVENT
BEGIN:VEVENT
DTSTART;TZID=Europe/Stockholm:20250529T080000
DTEND;TZID=Europe/Stockholm:20250529T170000
DTSTAMP:20260423T070726
CREATED:20250529T141401Z
LAST-MODIFIED:20250529T141401Z
UID:14925-1748505600-1748538000@dis-filbyter.se
SUMMARY:Kurs Kartor 1\, 3ggr
DESCRIPTION:Kursen fokuserar på användning av Disgens grundkarta för placering och beskrivning av egna orter\, visning av den egna släkten\, hantering av för Disgen anpassade underlagskartor\, utskrifter samt visning av släkten på Google Earth Pro
URL:https://dis-filbyter.se/event/kurs-kartor-1-3ggr/
LOCATION:Fontänen Bergqvist\, Västra Vägen 32
END:VEVENT
END:VCALENDAR