BEGIN:VCALENDAR
VERSION:2.0
PRODID:-//Släktforskning - ECPv6.1.2.2//NONSGML v1.0//EN
CALSCALE:GREGORIAN
METHOD:PUBLISH
X-WR-CALNAME:Släktforskning
X-ORIGINAL-URL:https://dis-filbyter.se
X-WR-CALDESC:Händelser för Släktforskning
REFRESH-INTERVAL;VALUE=DURATION:PT1H
X-Robots-Tag:noindex
X-PUBLISHED-TTL:PT1H
BEGIN:VTIMEZONE
TZID:Europe/Stockholm
BEGIN:DAYLIGHT
TZOFFSETFROM:+0100
TZOFFSETTO:+0200
TZNAME:CEST
DTSTART:20250330T010000
END:DAYLIGHT
BEGIN:STANDARD
TZOFFSETFROM:+0200
TZOFFSETTO:+0100
TZNAME:CET
DTSTART:20251026T010000
END:STANDARD
END:VTIMEZONE
BEGIN:VEVENT
DTSTART;TZID=Europe/Stockholm:20250809T140000
DTEND;TZID=Europe/Stockholm:20250809T153000
DTSTAMP:20260423T021701
CREATED:20250705T122317Z
LAST-MODIFIED:20250705T122711Z
UID:15025-1754748000-1754753400@dis-filbyter.se
SUMMARY:Utflykt: Välkommen att besöka Olivehults säteri
DESCRIPTION:Lördagen 9 augusti kl. 14.00 \nVi kommer att besöka en gård från 1600-talet med en guidning av\ngården ägare Lotta Hedborg\nOlivehult är en herrgård (säteri) vid sjön Stråken i Kristbergs socken.\nGårdens huvudbyggnad av trä är uppförd på 1650-talet och påbyggd\npå 1780-talet..... \n.....Anmälan till Anita Hjelm\,\nE-post:anitahjelm40@gmail.com\neller på telefon tel. 0703 013228\, senast 1 augusti
URL:https://dis-filbyter.se/event/valkommen-att-besoka-olivehults-sateri/
LOCATION:Olivehults säteri utanför Borensberg
ORGANIZER;CN="Anita%20Hj%C3%A4lm":MAILTO:anitahjelm40@gmail.com
END:VEVENT
END:VCALENDAR