BEGIN:VCALENDAR
VERSION:2.0
PRODID:-//Släktforskning - ECPv6.1.2.2//NONSGML v1.0//EN
CALSCALE:GREGORIAN
METHOD:PUBLISH
X-WR-CALNAME:Släktforskning
X-ORIGINAL-URL:https://dis-filbyter.se
X-WR-CALDESC:Händelser för Släktforskning
REFRESH-INTERVAL;VALUE=DURATION:PT1H
X-Robots-Tag:noindex
X-PUBLISHED-TTL:PT1H
BEGIN:VTIMEZONE
TZID:Europe/Stockholm
BEGIN:DAYLIGHT
TZOFFSETFROM:+0100
TZOFFSETTO:+0200
TZNAME:CEST
DTSTART:20250330T010000
END:DAYLIGHT
BEGIN:STANDARD
TZOFFSETFROM:+0200
TZOFFSETTO:+0100
TZNAME:CET
DTSTART:20251026T010000
END:STANDARD
END:VTIMEZONE
BEGIN:VEVENT
DTSTART;TZID=Europe/Stockholm:20250902T190000
DTEND;TZID=Europe/Stockholm:20250902T200000
DTSTAMP:20260423T003744
CREATED:20250704T140217Z
LAST-MODIFIED:20250713T190200Z
UID:15007-1756839600-1756843200@dis-filbyter.se
SUMMARY:Medlemsmöte Zoom\, Tisdag 2 sept.: Disgen 2025.
DESCRIPTION:Välkommen att delta med dina frågor på Disgen 2025.  Vi\nkommer även att visa hur den nya superbra funktionen med dubbletter fungerar.\nFunktionärer deltar och svarar på frågor: Bertil Lindqvist\, Birgitta Karlsson och Anders Lindman Hjalmarsson.
URL:https://dis-filbyter.se/event/medlemsmote-tisdag-2-sept-disgen-2025/
LOCATION:Zoom
ORGANIZER;CN="Helen%20Lindqvist":MAILTO:lindqvist660@gmail.com
END:VEVENT
BEGIN:VEVENT
DTSTART;TZID=Europe/Stockholm:20250904T180000
DTEND;TZID=Europe/Stockholm:20250904T193000
DTSTAMP:20260423T003744
CREATED:20250707T164319Z
LAST-MODIFIED:20250707T164443Z
UID:15033-1757008800-1757014200@dis-filbyter.se
SUMMARY:Uppstart för verksamhet i Åtvidaberg!
DESCRIPTION:Välkommen till uppstartsträffen den 4 september.\nPlats: ABFs lokal\, Tilasbacken 3\nTid 18.00\n\nMedlemmar och intresserade vänner är välkomna. Vi kommer bl.a. att informera om nystart av verksamheten i Åtvidaberg samt om Disgen 2025. Föreningens ordförande Anders Lindman Hjalmarsson informerar.\n\nVi bjuder på kaffe med dopp och hoppas på trevliga samtal om släktforskning\, föreningen i övrigt osv.\n\nFör att få en aning om hur många som kommer så tar vi gärna emot din anmälan. Helén Lindqvist\, 0704-109966\, e-post: lindqvist660@gmail.com
URL:https://dis-filbyter.se/event/uppstart-for-verksamhet-i-atvidaberg/
LOCATION:ABF Åtvidaberg\, Tilasbacken 3\, Åtvidaberg
ORGANIZER;CN="Helen%20Lindqvist":MAILTO:lindqvist660@gmail.com
END:VEVENT
BEGIN:VEVENT
DTSTART;TZID=Europe/Stockholm:20250909T093000
DTEND;TZID=Europe/Stockholm:20250909T120000
DTSTAMP:20260423T003744
CREATED:20250529T151141Z
LAST-MODIFIED:20250529T151222Z
UID:14947-1757410200-1757419200@dis-filbyter.se
SUMMARY:Kurs: Släktforskning\, grundkurs\, dagtid\, 6 ggr.
DESCRIPTION:Du får lära dig grunderna i släktforskning\, hur man kommer igång\, hur man dokumenterar sin forskning och tar vara på de ”levande arkiven.
URL:https://dis-filbyter.se/event/kurs-slaktforskning-grundkurs-dagtid-6-ggrdu-far-lara-dig-grunderna-i-slaktforskning-hur-man-kommer-igang-hur-man-dokumenterar-sin-forskning-och-tar-vara-pa-de-levande-arkiven/
LOCATION:Fontänen datasalen\, Västra Vägen 32\, Linköping\, Sverige
ORGANIZER;CN="Berit%20Peukert":MAILTO:berpeu207@gmail.com
END:VEVENT
BEGIN:VEVENT
DTSTART;TZID=Europe/Stockholm:20250910T170000
DTEND;TZID=Europe/Stockholm:20250910T193000
DTSTAMP:20260423T003744
CREATED:20250529T150625Z
LAST-MODIFIED:20250529T150743Z
UID:14944-1757523600-1757532600@dis-filbyter.se
SUMMARY:Kurs: Släktforskning\, grundkurs\, kvällstid\, 6 ggr
DESCRIPTION:Du får lära dig grunderna i släktforskning\, hur man kommer igång\, hur man dokumenterar sin forskning och tar vara på de ”levande arkiven”
URL:https://dis-filbyter.se/event/kurs-slaktforskning-grundkurs-kvallstid-6-ggr/
LOCATION:Fontänen datasalen\, Västra Vägen 32\, Linköping\, Sverige
ORGANIZER;CN="Berit%20Peukert":MAILTO:berpeu207@gmail.com
END:VEVENT
BEGIN:VEVENT
DTSTART;TZID=Europe/Stockholm:20250910T180000
DTEND;TZID=Europe/Stockholm:20250910T193000
DTSTAMP:20260423T003744
CREATED:20250903T083612Z
LAST-MODIFIED:20250903T084134Z
UID:15221-1757527200-1757532600@dis-filbyter.se
SUMMARY:Uppstart för verksamhet i Vadstena
DESCRIPTION:Uppstart för verksamhet \nVälkommen till uppstartsträffen den 10 september.\nPlats: ABF:s lokal\, Södra vägen 30.\nTid 18.00\n\nMedlemmar och intresserade vänner är välkomna. Vi kommer bl.a. att informera om nystart av verksamheten i Åtvidaberg samt om Disgen 2025. Föreningens ordförande Anders Lindman Hjalmarsson informerar.\n\nVi bjuder på kaffe med dopp och hoppas på trevliga samtal om släktforskning\, föreningen i övrigt osv.\n\nFör att få en aning om hur många som kommer så tar vi gärna emot din anmälan. Helén Lindqvist\, 0704-109966\, e-post: lindqvist660@gmail.com.
URL:https://dis-filbyter.se/event/uppstart-for-verksamhet-i-vadstena/
LOCATION:ABF Vadstena\, Södra Vägen 30\, Vadstena
ORGANIZER;CN="Helen%20Lindqvist":MAILTO:lindqvist660@gmail.com
END:VEVENT
BEGIN:VEVENT
DTSTART;TZID=Europe/Stockholm:20250911T180000
DTEND;TZID=Europe/Stockholm:20250911T193000
DTSTAMP:20260423T003744
CREATED:20250713T155235Z
LAST-MODIFIED:20250713T155324Z
UID:15080-1757613600-1757619000@dis-filbyter.se
SUMMARY:Linköping\, Städer i och utanför Hansan
DESCRIPTION:Föreläsare: Sofia Gustafsson\nStäder i och utanför Hansan\nTorsdag 11 september 2025 18.00\nPlats: LIVE och Zoom i lokal Bergqvist Fontänen\nFöreläsningen är gratis \nDen hanseatiska världen och Skandinavien under medeltiden. De svenska städerna var inte en del av Hansan\, men de ingick i handelsnätverken och särskilt kuststädernas invånare hade nära relationer till borgare i städer på andra sidan Östersjön....
URL:https://dis-filbyter.se/event/linkoping-stader-i-och-utanfor-hansan/
LOCATION:Fontänen Bergqvist + Zoom\, Västra Vägen 32\, Linköping
END:VEVENT
BEGIN:VEVENT
DTSTART;TZID=Europe/Stockholm:20250915T121500
DTEND;TZID=Europe/Stockholm:20250915T130000
DTSTAMP:20260423T003744
CREATED:20250819T170555Z
LAST-MODIFIED:20250819T170555Z
UID:15188-1757938500-1757941200@dis-filbyter.se
SUMMARY:Föreläsning: Förlossningsvård till salu
DESCRIPTION:Välkommen till en öppen lunchföreläsning med titeln ”Förlossningsvård till salu”\, om privatpraktiserande barnmorskor och utomäktenskapliga barn\, med Johanna Sköld och Johanna Sjöberg vid Tema Barn\, Linköpings universitet.\nDatum: 15 September\, kl. 12:15-13:00\nPlats: Campus US\, Lasarettsgatan\, Hus 511/001\, Plan 11\, Sal Valeriana \nUnder flera hundra år var det möjligt i Sverige att föda barn anonymt. Det blev en utväg för många ogifta mödrar som ville undslippa den skam som följde av att ha få ett barn utom äktenskapet. Men hur gick detta till i praktiken? I föreläsningen presenteras vilka möjligheter som stod de ogifta mödrarna till buds\, och hur detta hemlighetsmakeri skapade en marknad för så kallade obemärkta födslar. En del av dem som drev den här marknaden var privatpraktiserande barnmorskor. Föreläsningen bygger på delar av boken Barnavård till salu – Förlossningshem och barnpensionat 1900–1975. \nSköld och Sjöberg kommer även att samtala om boken på Linköpings bokhandel den 23 september kl. 17.30.\nBoken finns att läsa digitalt:\nJohanna Sköld & Johanna Sjöberg (2024). Barnavård till salu: marknaden för kommersiell mödra- och spädbarnsvård samt privata barnpensionat 1900–1975. Stockholm: Appell förlag.\nOpen access: https://doi.org/10.60156/kriterium.60
URL:https://dis-filbyter.se/event/forelasning-forlossningsvard-till-salu/
LOCATION:Campus US\, Hus 511/001\, Plan 11\, Sal Valeriana\, Linkping
END:VEVENT
BEGIN:VEVENT
DTSTART;TZID=Europe/Stockholm:20250916T180000
DTEND;TZID=Europe/Stockholm:20250916T193000
DTSTAMP:20260423T003744
CREATED:20250713T145015Z
LAST-MODIFIED:20250903T074904Z
UID:15058-1758045600-1758051000@dis-filbyter.se
SUMMARY:Mjölby\, Föreläsning Getåolyckan
DESCRIPTION:Länk
URL:https://dis-filbyter.se/event/forelasningar-pa-ostkupan-i-mjolby/
LOCATION:ABF Ostkupan\, Kanikegatan 15\, Mjölby
ORGANIZER;CN="Leif%20Ax":MAILTO:leifax@hotmail.se
END:VEVENT
BEGIN:VEVENT
DTSTART;TZID=Europe/Stockholm:20250923T180000
DTEND;TZID=Europe/Stockholm:20250923T203000
DTSTAMP:20260423T003744
CREATED:20250529T144200Z
LAST-MODIFIED:20250811T183854Z
UID:14933-1758650400-1758659400@dis-filbyter.se
SUMMARY:Zoomkurs: Tolka/transkribering av gamla handskrifter steg 2\, fortsättningskurs\, 4ggr
DESCRIPTION:Genomgång av grundläggande begrepp och terminologi inom paleografin. Handskriftens utveckling över tid samt exempel på olika stiltyper från 1500-tallet till slutet 1800-tal
URL:https://dis-filbyter.se/event/kurs-tolka-transkribering-av-gamla-handskrifter-steg-2-fortsattningskurs-4ggr/
LOCATION:Zoom
ORGANIZER;CN="Torbj%C3%B6rn%20Wahlstr%C3%B6m":MAILTO:macenter@telia.com
END:VEVENT
BEGIN:VEVENT
DTSTART;TZID=Europe/Stockholm:20250924T180000
DTEND;TZID=Europe/Stockholm:20250924T203000
DTSTAMP:20260423T003744
CREATED:20250529T145343Z
LAST-MODIFIED:20250529T145343Z
UID:14938-1758736800-1758745800@dis-filbyter.se
SUMMARY:Zoomkurs: Domboksforskning\, grundkurs\, 4ggr
DESCRIPTION:Kursen inleds med en översiktlig genomgång av hur våra lagar har utvecklats\nfrån 1300-tal till nutid samt en gedigen genomgång av domstolsväsendets\nutveckling genom seklerna.
URL:https://dis-filbyter.se/event/zoomkurs-domboksforskning-grundkurs-4ggr/
LOCATION:Zoom
ORGANIZER;CN="Torbj%C3%B6rn%20Wahlstr%C3%B6m":MAILTO:macenter@telia.com
END:VEVENT
BEGIN:VEVENT
DTSTART;TZID=Europe/Stockholm:20250930T190000
DTEND;TZID=Europe/Stockholm:20250930T200000
DTSTAMP:20260423T003744
CREATED:20250704T140630Z
LAST-MODIFIED:20250713T190251Z
UID:15009-1759258800-1759262400@dis-filbyter.se
SUMMARY:Medlemsmöte Zoom\, Disgen 2025. Tema: källhantering
DESCRIPTION:Tisdag 30 sept.: Disgen 2025. Tema: källhantering. Information om källhanteringen i nya Disgen 2025 med frågestund. Bertil Lindqvist och Anders Lindman Hjalmarsson ansvarar för mötet.
URL:https://dis-filbyter.se/event/medlemsmote-disgen-2025-tema-kallhantering/
LOCATION:Zoom
ORGANIZER;CN="Helen%20Lindqvist":MAILTO:lindqvist660@gmail.com
END:VEVENT
END:VCALENDAR