BEGIN:VCALENDAR
VERSION:2.0
PRODID:-//Släktforskning - ECPv6.1.2.2//NONSGML v1.0//EN
CALSCALE:GREGORIAN
METHOD:PUBLISH
X-WR-CALNAME:Släktforskning
X-ORIGINAL-URL:https://dis-filbyter.se
X-WR-CALDESC:Händelser för Släktforskning
REFRESH-INTERVAL;VALUE=DURATION:PT1H
X-Robots-Tag:noindex
X-PUBLISHED-TTL:PT1H
BEGIN:VTIMEZONE
TZID:Europe/Stockholm
BEGIN:DAYLIGHT
TZOFFSETFROM:+0100
TZOFFSETTO:+0200
TZNAME:CEST
DTSTART:20250330T010000
END:DAYLIGHT
BEGIN:STANDARD
TZOFFSETFROM:+0200
TZOFFSETTO:+0100
TZNAME:CET
DTSTART:20251026T010000
END:STANDARD
BEGIN:DAYLIGHT
TZOFFSETFROM:+0100
TZOFFSETTO:+0200
TZNAME:CEST
DTSTART:20260329T010000
END:DAYLIGHT
BEGIN:STANDARD
TZOFFSETFROM:+0200
TZOFFSETTO:+0100
TZNAME:CET
DTSTART:20261025T010000
END:STANDARD
END:VTIMEZONE
BEGIN:VEVENT
DTSTART;VALUE=DATE:20251218
DTEND;VALUE=DATE:20260107
DTSTAMP:20260423T003629
CREATED:20251119T195600Z
LAST-MODIFIED:20260107T095254Z
UID:15627-1766016000-1767743999@dis-filbyter.se
SUMMARY:Linköping forskarsalen stängd mellan18 dec och 6 jan.
DESCRIPTION:DIS-Filbyter stänger forskningen i datasalen för julledigt från och med torsdagen den 18 dec och öppnar igen onsdagen den 6 januari.
URL:https://dis-filbyter.se/event/linkoping-forskarsalen-stangd-mellan18-dec-och-7-jan/
LOCATION:Fontänen datasalen\, Västra Vägen 32\, Linköping\, Sverige
END:VEVENT
BEGIN:VEVENT
DTSTART;TZID=Europe/Stockholm:20260121T180000
DTEND;TZID=Europe/Stockholm:20260121T200000
DTSTAMP:20260423T003629
CREATED:20251213T142134Z
LAST-MODIFIED:20251213T142134Z
UID:15799-1769018400-1769025600@dis-filbyter.se
SUMMARY:Vadstena vårens aktiviteter. "hjälp på plats"
DESCRIPTION:Drop-in\, "hjälp på plats". Lättare uppstart på terminen. Hjälp med att registrera eget material i Disgen.
URL:https://dis-filbyter.se/event/vadstena-varens-aktiviteter-hjalp-pa-plats/
LOCATION:ABF Vadstena\, Södra Vägen 30\, Vadstena
ORGANIZER;CN="Carola%20Monicadotter%20L%C3%B6%C3%B6f":MAILTO:carola.monicadotterloof@gmail.com
END:VEVENT
BEGIN:VEVENT
DTSTART;TZID=Europe/Stockholm:20260122T180000
DTEND;TZID=Europe/Stockholm:20260122T193000
DTSTAMP:20260423T003629
CREATED:20251112T162158Z
LAST-MODIFIED:20251112T162158Z
UID:15544-1769104800-1769110200@dis-filbyter.se
SUMMARY:Linköping: Allt för Sverige\, Zoom och Live på Fontänen
DESCRIPTION:Föreläsare. Lena Ringbrant\nTorsdag 22 januari 2026 18.00\nPlats: Bergqvist från ZOOM ses Live på Fontänen\nFöreläsningen är gratis\nLena Ringbrant Ekelund\, som är en mycket erfaren släktforskare\,\nberättar om sitt arbete som researcher till TV-programmet ”Allt för\nSverige”. \nEmigrantforskning\, kartor och lagfarter är Lenas specialitet inom\nsläktforskning. Framförallt att leta efter nu levande släktingar ligger Lena\nvarmt om hjärtat.
URL:https://dis-filbyter.se/event/linkoping-allt-for-sverige-zoom-och-live-pa-fontanen/
LOCATION:Fontänen Bergqvist + Zoom\, Västra Vägen 32\, Linköping
END:VEVENT
BEGIN:VEVENT
DTSTART;TZID=Europe/Stockholm:20260128T163000
DTEND;TZID=Europe/Stockholm:20260128T190000
DTSTAMP:20260423T003629
CREATED:20260113T193713Z
LAST-MODIFIED:20260113T193738Z
UID:15912-1769617800-1769626800@dis-filbyter.se
SUMMARY:AKTIVITETER Våren 2026 I BORENSBERG.
DESCRIPTION:Öppen släktforskning på biblioteket. Vi kommer att träffas varannan onsdag eftermiddag\nkl. 16.30 - 19.00 enl. följande datum  28/1\, 11/2\, 25/2\, 11/3 och 25/3\, 8/4 och 22/4..\nVi tar en kort paus\, så ta gärna med Dig eget fika.
URL:https://dis-filbyter.se/event/aktiviteter-varen-2026-i-borensberg/
LOCATION:Biblioteket Borensberg\, Husbyvägen 13\, Borensberg
ORGANIZER;CN="Monica%20Niklasson":MAILTO:monicaniklasson@telia.com
END:VEVENT
BEGIN:VEVENT
DTSTART;TZID=Europe/Stockholm:20260129T140000
DTEND;TZID=Europe/Stockholm:20260129T160000
DTSTAMP:20260423T003629
CREATED:20251112T155135Z
LAST-MODIFIED:20251112T155243Z
UID:15527-1769695200-1769702400@dis-filbyter.se
SUMMARY:Åtvidaberg: Släktforskarhandledning
DESCRIPTION:VÅREN 2026 VÄLKOMMEN\ntill oss på  Biblioteket i Åtvidaberg \nVi kommer att finnas på biblioteket\n14.00-16.00\nföljande torsdagar:\n29/1\, 26/2\, 30/4 samt 28/5. \nOBS! 26/3 är tiden 17.30-19.30\nReservation för ändringar\, kolla gärna någon dag innan!
URL:https://dis-filbyter.se/event/atvidaberg-slaktforskarhandledning/
LOCATION:Biblioteket Åtvidaberg\, Åtvidaberg
END:VEVENT
BEGIN:VEVENT
DTSTART;TZID=Europe/Stockholm:20260130T131500
DTEND;TZID=Europe/Stockholm:20260130T154500
DTSTAMP:20260423T003629
CREATED:20251209T174603Z
LAST-MODIFIED:20251209T174603Z
UID:15775-1769778900-1769787900@dis-filbyter.se
SUMMARY:Kurs Linköping DNA-cirkel. Startar 30/1\, 3 ggr
DESCRIPTION:Syfte och mål\nAtt förstå och använda resultatet av DNA-test i släktforskningssyfte.\nMålet är att deltagarna ska få ökad nytta av sitt eget DNA-test.\nStudiematerial\nCirkeln bygger på deltagarens eget DNA-test\, men boken “Från DNA-test till släktträd” av Peter Sjölund rekommenderas som frivillig bredvidläsning.\nKursinnehåll\nVi utgår från deltagarnas egna erfarenheter och behov och undersöker tillsammans hur man kan gå till väga för att tolka och dra nytta av de matchningar som ett test ger upphov till. Grunden är deltagarnas egna frågor.................
URL:https://dis-filbyter.se/event/kurs-linkoping-dna-cirkel-startar-30-1-3-ggr/
LOCATION:Fontänen datasalen\, Västra Vägen 32\, Linköping\, Sverige
ORGANIZER;CN="Maria%20Lagus":MAILTO:maria.lagus@gmail.com
END:VEVENT
BEGIN:VEVENT
DTSTART;TZID=Europe/Stockholm:20260131T110000
DTEND;TZID=Europe/Stockholm:20260131T130000
DTSTAMP:20260423T003629
CREATED:20260112T123336Z
LAST-MODIFIED:20260112T123336Z
UID:15899-1769857200-1769864400@dis-filbyter.se
SUMMARY:Mjölby Släktforskningens dag
DESCRIPTION:VÄLKOMMNA\nDis-Filbyter Mjölby.\nSläktforskningens dag 31/1 11.00-13.00\npå biblioteket i Mjölby.\n12.00 - 12.30 K-G Andersson föreläser om Farfar Andersson med gamla bilder.\n”Vi visar släktforskning och DNA”.
URL:https://dis-filbyter.se/event/mjolby-slaktforskningens-dag-2/
LOCATION:Biblioteket Mjölby\, Burensköldsvägen 13\, Mjölby\, 59530\, Sverige
END:VEVENT
BEGIN:VEVENT
DTSTART;TZID=Europe/Stockholm:20260131T110000
DTEND;TZID=Europe/Stockholm:20260131T150000
DTSTAMP:20260423T003629
CREATED:20251112T153937Z
LAST-MODIFIED:20251112T154032Z
UID:15523-1769857200-1769871600@dis-filbyter.se
SUMMARY:Linköping: Släktforskningens dag
DESCRIPTION:Släktforskningens dag\n2026-01-31\nVÄLKOMNA\nDIS-Filbyter - Linköping\nSläktforskningens dag 31/1 11.00-15.00\nPå stadsbiblioteket i Linköping.\nEn dag med släktforskarinformation.
URL:https://dis-filbyter.se/event/linkoping-slaktforskningens-dag-2/
LOCATION:Biblioteket Linköping\, Östgötagatan 5\, Linköping\, Linköping\, 582 32
ORGANIZER;CN="Helen%20Lindqvist":MAILTO:lindqvist660@gmail.com
END:VEVENT
END:VCALENDAR